BEGIN:VCALENDAR
VERSION:2.0
PRODID:-//Nor-Cal ChevelleCaminos - ECPv6.15.20//NONSGML v1.0//EN
CALSCALE:GREGORIAN
METHOD:PUBLISH
X-WR-CALNAME:Nor-Cal ChevelleCaminos
X-ORIGINAL-URL:https://nor-calchevelles.com
X-WR-CALDESC:Events for Nor-Cal ChevelleCaminos
REFRESH-INTERVAL;VALUE=DURATION:PT1H
X-Robots-Tag:noindex
X-PUBLISHED-TTL:PT1H
BEGIN:VTIMEZONE
TZID:America/Denver
BEGIN:DAYLIGHT
TZOFFSETFROM:-0700
TZOFFSETTO:-0600
TZNAME:MDT
DTSTART:20230312T090000
END:DAYLIGHT
BEGIN:STANDARD
TZOFFSETFROM:-0600
TZOFFSETTO:-0700
TZNAME:MST
DTSTART:20231105T080000
END:STANDARD
BEGIN:DAYLIGHT
TZOFFSETFROM:-0700
TZOFFSETTO:-0600
TZNAME:MDT
DTSTART:20240310T090000
END:DAYLIGHT
BEGIN:STANDARD
TZOFFSETFROM:-0600
TZOFFSETTO:-0700
TZNAME:MST
DTSTART:20241103T080000
END:STANDARD
BEGIN:DAYLIGHT
TZOFFSETFROM:-0700
TZOFFSETTO:-0600
TZNAME:MDT
DTSTART:20250309T090000
END:DAYLIGHT
BEGIN:STANDARD
TZOFFSETFROM:-0600
TZOFFSETTO:-0700
TZNAME:MST
DTSTART:20251102T080000
END:STANDARD
END:VTIMEZONE
BEGIN:VEVENT
DTSTART;TZID=America/Denver:20240809T080000
DTEND;TZID=America/Denver:20240811T170000
DTSTAMP:20260420T133852
CREATED:20240303T004937Z
LAST-MODIFIED:20240303T004937Z
UID:10000132-1723190400-1723395600@nor-calchevelles.com
SUMMARY:9 – 11  Hot August Nights (Reno)
DESCRIPTION:
URL:https://nor-calchevelles.com/event/9-11-hot-august-nights-reno/
END:VEVENT
END:VCALENDAR