BEGIN:VCALENDAR
VERSION:2.0
PRODID:-//Nor-Cal ChevelleCaminos - ECPv6.15.20//NONSGML v1.0//EN
CALSCALE:GREGORIAN
METHOD:PUBLISH
X-WR-CALNAME:Nor-Cal ChevelleCaminos
X-ORIGINAL-URL:https://nor-calchevelles.com
X-WR-CALDESC:Events for Nor-Cal ChevelleCaminos
REFRESH-INTERVAL;VALUE=DURATION:PT1H
X-Robots-Tag:noindex
X-PUBLISHED-TTL:PT1H
BEGIN:VTIMEZONE
TZID:America/Denver
BEGIN:DAYLIGHT
TZOFFSETFROM:-0700
TZOFFSETTO:-0600
TZNAME:MDT
DTSTART:20250309T090000
END:DAYLIGHT
BEGIN:STANDARD
TZOFFSETFROM:-0600
TZOFFSETTO:-0700
TZNAME:MST
DTSTART:20251102T080000
END:STANDARD
BEGIN:DAYLIGHT
TZOFFSETFROM:-0700
TZOFFSETTO:-0600
TZNAME:MDT
DTSTART:20260308T090000
END:DAYLIGHT
BEGIN:STANDARD
TZOFFSETFROM:-0600
TZOFFSETTO:-0700
TZNAME:MST
DTSTART:20261101T080000
END:STANDARD
BEGIN:DAYLIGHT
TZOFFSETFROM:-0700
TZOFFSETTO:-0600
TZNAME:MDT
DTSTART:20270314T090000
END:DAYLIGHT
BEGIN:STANDARD
TZOFFSETFROM:-0600
TZOFFSETTO:-0700
TZNAME:MST
DTSTART:20271107T080000
END:STANDARD
END:VTIMEZONE
BEGIN:VEVENT
DTSTART;TZID=America/Denver:20260314T100000
DTEND;TZID=America/Denver:20260314T133000
DTSTAMP:20260421T095429
CREATED:20260308T023311Z
LAST-MODIFIED:20260308T023457Z
UID:10000292-1773482400-1773495000@nor-calchevelles.com
SUMMARY:Short mtg at Fremont Chevrolet then cruise to lunch at Mersea Restaurant on Treasure Island
DESCRIPTION:Hi Everyone\, \nOn Saturday\, March 14 we’re planning on having a monthly club cruise and lunch on Treasure Island\, right after we meet in front of the Fremont Chevrolet Dealership. \nA flyer is attached with all the details.  Please note that for now attendance is limited to 12 people due to space. \nIf you still have questions after checking out the flyer\, please contact Randy Ochs per the flyer instructions. \nSee you there! \n— Bev \nTreasure Island Lunch Cruise March 14\, 2026
URL:https://nor-calchevelles.com/event/short-mtg-at-fremont-chevrolet-then-cruise-to-lunch-at-mersea-restaurant-on-treasure-island/
END:VEVENT
END:VCALENDAR