BEGIN:VCALENDAR
VERSION:2.0
PRODID:-//Nor-Cal ChevelleCaminos - ECPv6.15.20//NONSGML v1.0//EN
CALSCALE:GREGORIAN
METHOD:PUBLISH
X-WR-CALNAME:Nor-Cal ChevelleCaminos
X-ORIGINAL-URL:https://nor-calchevelles.com
X-WR-CALDESC:Events for Nor-Cal ChevelleCaminos
REFRESH-INTERVAL;VALUE=DURATION:PT1H
X-Robots-Tag:noindex
X-PUBLISHED-TTL:PT1H
BEGIN:VTIMEZONE
TZID:America/Denver
BEGIN:DAYLIGHT
TZOFFSETFROM:-0700
TZOFFSETTO:-0600
TZNAME:MDT
DTSTART:20250309T090000
END:DAYLIGHT
BEGIN:STANDARD
TZOFFSETFROM:-0600
TZOFFSETTO:-0700
TZNAME:MST
DTSTART:20251102T080000
END:STANDARD
BEGIN:DAYLIGHT
TZOFFSETFROM:-0700
TZOFFSETTO:-0600
TZNAME:MDT
DTSTART:20260308T090000
END:DAYLIGHT
BEGIN:STANDARD
TZOFFSETFROM:-0600
TZOFFSETTO:-0700
TZNAME:MST
DTSTART:20261101T080000
END:STANDARD
BEGIN:DAYLIGHT
TZOFFSETFROM:-0700
TZOFFSETTO:-0600
TZNAME:MDT
DTSTART:20270314T090000
END:DAYLIGHT
BEGIN:STANDARD
TZOFFSETFROM:-0600
TZOFFSETTO:-0700
TZNAME:MST
DTSTART:20271107T080000
END:STANDARD
BEGIN:DAYLIGHT
TZOFFSETFROM:-0700
TZOFFSETTO:-0600
TZNAME:MDT
DTSTART:20280312T090000
END:DAYLIGHT
BEGIN:STANDARD
TZOFFSETFROM:-0600
TZOFFSETTO:-0700
TZNAME:MST
DTSTART:20281105T080000
END:STANDARD
END:VTIMEZONE
BEGIN:VEVENT
DTSTART;TZID=America/Denver:20260425T080000
DTEND;TZID=America/Denver:20260425T170000
DTSTAMP:20260418T141330
CREATED:20260309T235050Z
LAST-MODIFIED:20260321T014801Z
UID:10000302-1777104000-1777136400@nor-calchevelles.com
SUMMARY:Lodi Wine Country "Sip & Savor" Cruise
DESCRIPTION:2026 Lodi Wine Country Cruise Flyer
URL:https://nor-calchevelles.com/event/lodi-wine-country-sip-savor-cruise-2/
END:VEVENT
BEGIN:VEVENT
DTSTART;TZID=America/Denver:20260503T070000
DTEND;TZID=America/Denver:20260503T150000
DTSTAMP:20260418T141330
CREATED:20260310T001940Z
LAST-MODIFIED:20260408T232429Z
UID:10000303-1777791600-1777820400@nor-calchevelles.com
SUMMARY:Niles Spring Fever Car Show
DESCRIPTION:Hello Everyone!  \n\n\n\nThe Niles Spring Fever Car Show is coming up on Sunday\, May 3rd.  This is a fun local show complete with live music from 10AM – 1PM\, a 50/50 raffle\, plenty of food including food trucks\, the usual awards for the usual and unique categories (no guarantees though)\, and shops that will be open for your shopping pleasure.  \n\n\nIf you’d like to be in the show and park your classic with other Nor-Cal Chevelle Club members\, please let Chris Paulson know as soon as possible (no later than Apr 24th) at norcal64caminochris@gmail.com  Chris is planning to get there by 6:30AM that morning and can save spots only until 8:00AM\, but he can only save spots if he knows how many to save.\nWe’ll be parking in the parking lot at J Street and Niles Blvd (in Niles).  \n\n\nRegistration is $40 before Apr 3rd and $45 after Apr 3rd and is required if you want to park as a group. You can register online or at the show (first come first serve). (Online is preferred.) Information regarding registration can be found below \n\n\nClick here to Register online\, scroll to the bottom of the flyer and click on the “Purchase” button
URL:https://nor-calchevelles.com/event/niles-spring-fever-car-show-3/
END:VEVENT
BEGIN:VEVENT
DTSTART;TZID=America/Denver:20260509T100000
DTEND;TZID=America/Denver:20260509T140000
DTSTAMP:20260418T141330
CREATED:20260310T002444Z
LAST-MODIFIED:20260310T003412Z
UID:10000238-1778320800-1778335200@nor-calchevelles.com
SUMMARY:Gathering/short mtg – Cruise to Wente Golf Course for Lunch & Rubino Wine Tasting
DESCRIPTION:
URL:https://nor-calchevelles.com/event/club-meeting-and-cruise-to-lunch-7-2-2/
END:VEVENT
BEGIN:VEVENT
DTSTART;TZID=America/Denver:20260517T080000
DTEND;TZID=America/Denver:20260517T170000
DTSTAMP:20260418T141330
CREATED:20260310T003803Z
LAST-MODIFIED:20260310T003844Z
UID:10000304-1779004800-1779037200@nor-calchevelles.com
SUMMARY:Annual Club Picnic at the Meek Estate in Hayward
DESCRIPTION:
URL:https://nor-calchevelles.com/event/annual-club-picnic-at-the-meek-estate-in-hayward/
END:VEVENT
BEGIN:VEVENT
DTSTART;TZID=America/Denver:20260525T080000
DTEND;TZID=America/Denver:20260525T170000
DTSTAMP:20260418T141330
CREATED:20260310T004034Z
LAST-MODIFIED:20260310T004034Z
UID:10000305-1779696000-1779728400@nor-calchevelles.com
SUMMARY:Memorial Day
DESCRIPTION:
URL:https://nor-calchevelles.com/event/memorial-day/
END:VEVENT
BEGIN:VEVENT
DTSTART;TZID=America/Denver:20260613T100000
DTEND;TZID=America/Denver:20260613T140000
DTSTAMP:20260418T141330
CREATED:20260310T004816Z
LAST-MODIFIED:20260310T004941Z
UID:10000239-1781344800-1781359200@nor-calchevelles.com
SUMMARY:Gathering/short mtg & Ladies Day Event
DESCRIPTION:
URL:https://nor-calchevelles.com/event/club-meeting-and-cruise-to-lunch-7-2-4/
END:VEVENT
BEGIN:VEVENT
DTSTART;TZID=America/Denver:20260620T080000
DTEND;TZID=America/Denver:20260620T170000
DTSTAMP:20260418T141330
CREATED:20260310T004305Z
LAST-MODIFIED:20260310T004305Z
UID:10000307-1781942400-1781974800@nor-calchevelles.com
SUMMARY:Castro Valley Car Show
DESCRIPTION:
URL:https://nor-calchevelles.com/event/castro-valley-car-show-3/
END:VEVENT
BEGIN:VEVENT
DTSTART;TZID=America/Denver:20260704T080000
DTEND;TZID=America/Denver:20260704T170000
DTSTAMP:20260418T141330
CREATED:20260312T194928Z
LAST-MODIFIED:20260312T195702Z
UID:10000308-1783152000-1783184400@nor-calchevelles.com
SUMMARY:Fremont 4th of July Parade
DESCRIPTION:
URL:https://nor-calchevelles.com/event/fremont-4th-of-july-parade/
END:VEVENT
BEGIN:VEVENT
DTSTART;TZID=America/Denver:20260711T100000
DTEND;TZID=America/Denver:20260711T140000
DTSTAMP:20260418T141330
CREATED:20260312T200424Z
LAST-MODIFIED:20260312T200426Z
UID:10000240-1783764000-1783778400@nor-calchevelles.com
SUMMARY:Business meeting with Cruise to lunch at location TBD
DESCRIPTION:
URL:https://nor-calchevelles.com/event/club-meeting-and-cruise-to-lunch-7-2-5/
END:VEVENT
BEGIN:VEVENT
DTSTART;TZID=America/Denver:20260806T080000
DTEND;TZID=America/Denver:20260806T170000
DTSTAMP:20260418T141330
CREATED:20260312T200810Z
LAST-MODIFIED:20260312T200810Z
UID:10000310-1786003200-1786035600@nor-calchevelles.com
SUMMARY:Official AMC Pacer Reveal at HAN (Reno)
DESCRIPTION:
URL:https://nor-calchevelles.com/event/official-amc-pacer-reveal-at-han-reno/
END:VEVENT
BEGIN:VEVENT
DTSTART;TZID=America/Denver:20260809T080000
DTEND;TZID=America/Denver:20260809T170000
DTSTAMP:20260418T141330
CREATED:20260312T201427Z
LAST-MODIFIED:20260312T201427Z
UID:10000311-1786262400-1786294800@nor-calchevelles.com
SUMMARY:Hot August Niles Car Show & Club Meeting
DESCRIPTION:
URL:https://nor-calchevelles.com/event/hot-august-niles-car-show-club-meeting/
END:VEVENT
BEGIN:VEVENT
DTSTART;TZID=America/Denver:20260905T080000
DTEND;TZID=America/Denver:20260905T170000
DTSTAMP:20260418T141330
CREATED:20260312T201825Z
LAST-MODIFIED:20260312T201825Z
UID:10000312-1788595200-1788627600@nor-calchevelles.com
SUMMARY:Gathering/short mtg with Club Leadership Nominations and cruise to lunch (location TBD)
DESCRIPTION:
URL:https://nor-calchevelles.com/event/gathering-short-mtg-with-club-leadership-nominations-and-cruise-to-lunch-location-tbd/
END:VEVENT
BEGIN:VEVENT
DTSTART;TZID=America/Denver:20260912T080000
DTEND;TZID=America/Denver:20260912T170000
DTSTAMP:20260418T141330
CREATED:20260313T225504Z
LAST-MODIFIED:20260313T225504Z
UID:10000313-1789200000-1789232400@nor-calchevelles.com
SUMMARY:Hold for "Run To The Coast" - Poker Run
DESCRIPTION:
URL:https://nor-calchevelles.com/event/hold-for-run-to-the-coast-poker-run/
END:VEVENT
BEGIN:VEVENT
DTSTART;TZID=America/Denver:20260912T100000
DTEND;TZID=America/Denver:20260912T140000
DTSTAMP:20260418T141330
CREATED:20250827T230858Z
LAST-MODIFIED:20250827T230859Z
UID:10000242-1789207200-1789221600@nor-calchevelles.com
SUMMARY:Club Meeting and Cruise to Lunch
DESCRIPTION:
URL:https://nor-calchevelles.com/event/club-meeting-and-cruise-to-lunch-7-2/2026-09-12/
END:VEVENT
BEGIN:VEVENT
DTSTART;TZID=America/Denver:20260913T080000
DTEND;TZID=America/Denver:20260913T170000
DTSTAMP:20260418T141331
CREATED:20260313T225555Z
LAST-MODIFIED:20260313T225555Z
UID:10000314-1789286400-1789318800@nor-calchevelles.com
SUMMARY:Hold for "Run To The Coast" - Poker Run
DESCRIPTION:
URL:https://nor-calchevelles.com/event/hold-for-run-to-the-coast-poker-run-2/
END:VEVENT
BEGIN:VEVENT
DTSTART;TZID=America/Denver:20260926T080000
DTEND;TZID=America/Denver:20260926T170000
DTSTAMP:20260418T141331
CREATED:20260313T225705Z
LAST-MODIFIED:20260313T225705Z
UID:10000315-1790409600-1790442000@nor-calchevelles.com
SUMMARY:Apple Pie Run
DESCRIPTION:
URL:https://nor-calchevelles.com/event/apple-pie-run/
END:VEVENT
BEGIN:VEVENT
DTSTART;TZID=America/Denver:20261003T080000
DTEND;TZID=America/Denver:20261003T170000
DTSTAMP:20260418T141331
CREATED:20260313T225855Z
LAST-MODIFIED:20260313T225855Z
UID:10000316-1791014400-1791046800@nor-calchevelles.com
SUMMARY:USS Hornet Carrier & Oktoberfest Beer Crawl & lunch
DESCRIPTION:
URL:https://nor-calchevelles.com/event/uss-hornet-carrier-oktoberfest-beer-crawl-lunch/
END:VEVENT
BEGIN:VEVENT
DTSTART;TZID=America/Denver:20261010T100000
DTEND;TZID=America/Denver:20261010T140000
DTSTAMP:20260418T141331
CREATED:20260313T230530Z
LAST-MODIFIED:20260313T230609Z
UID:10000243-1791626400-1791640800@nor-calchevelles.com
SUMMARY:Business Meeting with Election of Officers & Cruise to Roy Brizio’s Car Collection
DESCRIPTION:
URL:https://nor-calchevelles.com/event/club-meeting-and-cruise-to-lunch-7-2-6/
END:VEVENT
BEGIN:VEVENT
DTSTART;TZID=America/Denver:20261011T080000
DTEND;TZID=America/Denver:20261011T170000
DTSTAMP:20260418T141331
CREATED:20260313T230839Z
LAST-MODIFIED:20260313T230839Z
UID:10000317-1791705600-1791738000@nor-calchevelles.com
SUMMARY:Sutter Creek Car Show
DESCRIPTION:
URL:https://nor-calchevelles.com/event/sutter-creek-car-show-2/
END:VEVENT
BEGIN:VEVENT
DTSTART;TZID=America/Denver:20261024T080000
DTEND;TZID=America/Denver:20261024T170000
DTSTAMP:20260418T141331
CREATED:20260313T231046Z
LAST-MODIFIED:20260313T231046Z
UID:10000318-1792828800-1792861200@nor-calchevelles.com
SUMMARY:Carmel to Cambria Overnight Cruise & Hearst Castle Tour
DESCRIPTION:
URL:https://nor-calchevelles.com/event/carmel-to-cambria-overnight-cruise-hearst-castle-tour/
END:VEVENT
BEGIN:VEVENT
DTSTART;TZID=America/Denver:20261025T080000
DTEND;TZID=America/Denver:20261025T170000
DTSTAMP:20260418T141331
CREATED:20260313T231130Z
LAST-MODIFIED:20260313T231130Z
UID:10000319-1792915200-1792947600@nor-calchevelles.com
SUMMARY:Carmel to Cambria Overnight Cruise & Hearst Castle Tour
DESCRIPTION:
URL:https://nor-calchevelles.com/event/carmel-to-cambria-overnight-cruise-hearst-castle-tour-2/
END:VEVENT
BEGIN:VEVENT
DTSTART;TZID=America/Denver:20261107T080000
DTEND;TZID=America/Denver:20261107T170000
DTSTAMP:20260418T141331
CREATED:20260313T231301Z
LAST-MODIFIED:20260313T231301Z
UID:10000320-1794038400-1794070800@nor-calchevelles.com
SUMMARY:17– Mile Drive Cruise & Lunch
DESCRIPTION:
URL:https://nor-calchevelles.com/event/17-mile-drive-cruise-lunch/
END:VEVENT
BEGIN:VEVENT
DTSTART;TZID=America/Denver:20261114T100000
DTEND;TZID=America/Denver:20261114T140000
DTSTAMP:20260418T141331
CREATED:20260313T232926Z
LAST-MODIFIED:20260313T232959Z
UID:10000244-1794650400-1794664800@nor-calchevelles.com
SUMMARY:Gathering/short mtg with cruise to lunch at the Ritz Carlton (Half Moon Bay) for lunch
DESCRIPTION:
URL:https://nor-calchevelles.com/event/club-meeting-and-cruise-to-lunch-7-2-7/
END:VEVENT
BEGIN:VEVENT
DTSTART;TZID=America/Denver:20261126T080000
DTEND;TZID=America/Denver:20261126T170000
DTSTAMP:20260418T141331
CREATED:20260313T233137Z
LAST-MODIFIED:20260313T233137Z
UID:10000321-1795680000-1795712400@nor-calchevelles.com
SUMMARY:Thanksgiving
DESCRIPTION:
URL:https://nor-calchevelles.com/event/thanksgiving/
END:VEVENT
BEGIN:VEVENT
DTSTART;TZID=America/Denver:20261128T080000
DTEND;TZID=America/Denver:20261128T170000
DTSTAMP:20260418T141331
CREATED:20260313T233231Z
LAST-MODIFIED:20260313T233231Z
UID:10000322-1795852800-1795885200@nor-calchevelles.com
SUMMARY:“Day After Thanksgiving” Niles Lights Parade & Tree Lighting
DESCRIPTION:
URL:https://nor-calchevelles.com/event/day-after-thanksgiving-niles-lights-parade-tree-lighting/
END:VEVENT
BEGIN:VEVENT
DTSTART;TZID=America/Denver:20261212T100000
DTEND;TZID=America/Denver:20261212T140000
DTSTAMP:20260418T141331
CREATED:20260314T011038Z
LAST-MODIFIED:20260314T011122Z
UID:10000245-1797069600-1797084000@nor-calchevelles.com
SUMMARY:Annual Christmas Party (Members only) at TBD
DESCRIPTION:
URL:https://nor-calchevelles.com/event/club-meeting-and-cruise-to-lunch-7-2-8/
END:VEVENT
BEGIN:VEVENT
DTSTART;TZID=America/Denver:20270109T100000
DTEND;TZID=America/Denver:20270109T140000
DTSTAMP:20260418T141331
CREATED:20250827T230858Z
LAST-MODIFIED:20250827T230859Z
UID:10000246-1799488800-1799503200@nor-calchevelles.com
SUMMARY:Club Meeting and Cruise to Lunch
DESCRIPTION:
URL:https://nor-calchevelles.com/event/club-meeting-and-cruise-to-lunch-7-2/2027-01-09/
END:VEVENT
BEGIN:VEVENT
DTSTART;TZID=America/Denver:20270213T100000
DTEND;TZID=America/Denver:20270213T140000
DTSTAMP:20260418T141331
CREATED:20250827T230858Z
LAST-MODIFIED:20250827T230859Z
UID:10000247-1802512800-1802527200@nor-calchevelles.com
SUMMARY:Club Meeting and Cruise to Lunch
DESCRIPTION:
URL:https://nor-calchevelles.com/event/club-meeting-and-cruise-to-lunch-7-2/2027-02-13/
END:VEVENT
BEGIN:VEVENT
DTSTART;TZID=America/Denver:20270313T100000
DTEND;TZID=America/Denver:20270313T140000
DTSTAMP:20260418T141331
CREATED:20250827T230858Z
LAST-MODIFIED:20250827T230859Z
UID:10000248-1804932000-1804946400@nor-calchevelles.com
SUMMARY:Club Meeting and Cruise to Lunch
DESCRIPTION:
URL:https://nor-calchevelles.com/event/club-meeting-and-cruise-to-lunch-7-2/2027-03-13/
END:VEVENT
BEGIN:VEVENT
DTSTART;TZID=America/Denver:20270410T100000
DTEND;TZID=America/Denver:20270410T140000
DTSTAMP:20260418T141331
CREATED:20250827T230858Z
LAST-MODIFIED:20250827T230859Z
UID:10000249-1807351200-1807365600@nor-calchevelles.com
SUMMARY:Club Meeting and Cruise to Lunch
DESCRIPTION:
URL:https://nor-calchevelles.com/event/club-meeting-and-cruise-to-lunch-7-2/2027-04-10/
END:VEVENT
END:VCALENDAR