BEGIN:VCALENDAR
VERSION:2.0
PRODID:-//Nor-Cal ChevelleCaminos - ECPv6.15.20//NONSGML v1.0//EN
CALSCALE:GREGORIAN
METHOD:PUBLISH
X-ORIGINAL-URL:https://nor-calchevelles.com
X-WR-CALDESC:Events for Nor-Cal ChevelleCaminos
REFRESH-INTERVAL;VALUE=DURATION:PT1H
X-Robots-Tag:noindex
X-PUBLISHED-TTL:PT1H
BEGIN:VTIMEZONE
TZID:America/Denver
BEGIN:DAYLIGHT
TZOFFSETFROM:-0700
TZOFFSETTO:-0600
TZNAME:MDT
DTSTART:20230312T090000
END:DAYLIGHT
BEGIN:STANDARD
TZOFFSETFROM:-0600
TZOFFSETTO:-0700
TZNAME:MST
DTSTART:20231105T080000
END:STANDARD
BEGIN:DAYLIGHT
TZOFFSETFROM:-0700
TZOFFSETTO:-0600
TZNAME:MDT
DTSTART:20240310T090000
END:DAYLIGHT
BEGIN:STANDARD
TZOFFSETFROM:-0600
TZOFFSETTO:-0700
TZNAME:MST
DTSTART:20241103T080000
END:STANDARD
BEGIN:DAYLIGHT
TZOFFSETFROM:-0700
TZOFFSETTO:-0600
TZNAME:MDT
DTSTART:20250309T090000
END:DAYLIGHT
BEGIN:STANDARD
TZOFFSETFROM:-0600
TZOFFSETTO:-0700
TZNAME:MST
DTSTART:20251102T080000
END:STANDARD
BEGIN:DAYLIGHT
TZOFFSETFROM:-0700
TZOFFSETTO:-0600
TZNAME:MDT
DTSTART:20260308T090000
END:DAYLIGHT
BEGIN:STANDARD
TZOFFSETFROM:-0600
TZOFFSETTO:-0700
TZNAME:MST
DTSTART:20261101T080000
END:STANDARD
END:VTIMEZONE
BEGIN:VEVENT
DTSTART;TZID=America/Denver:20241109T100000
DTEND;TZID=America/Denver:20241109T140000
DTSTAMP:20260420T195715
CREATED:20240112T233344Z
LAST-MODIFIED:20240112T233344Z
UID:10000053-1731146400-1731160800@nor-calchevelles.com
SUMMARY:Club Meeting and Cruise to Lunch
DESCRIPTION:
URL:https://nor-calchevelles.com/event/club-meeting-and-cruise-to-lunch/2024-11-09/
END:VEVENT
BEGIN:VEVENT
DTSTART;TZID=America/Denver:20241116T070000
DTEND;TZID=America/Denver:20241116T170000
DTSTAMP:20260420T195715
CREATED:20240303T013327Z
LAST-MODIFIED:20240303T013327Z
UID:10000143-1731740400-1731776400@nor-calchevelles.com
SUMMARY:Modesto American Graffiti
DESCRIPTION:
URL:https://nor-calchevelles.com/event/modesto-american-graffiti/
END:VEVENT
BEGIN:VEVENT
DTSTART;TZID=America/Denver:20241214T110000
DTEND;TZID=America/Denver:20241214T150000
DTSTAMP:20260420T195715
CREATED:20240303T013404Z
LAST-MODIFIED:20240303T013652Z
UID:10000144-1734174000-1734188400@nor-calchevelles.com
SUMMARY:Annual Christmas Party (Members only)
DESCRIPTION:
URL:https://nor-calchevelles.com/event/annual-christmas-party-members-only/
END:VEVENT
BEGIN:VEVENT
DTSTART;TZID=America/Denver:20250111T100000
DTEND;TZID=America/Denver:20250111T140000
DTSTAMP:20260420T195715
CREATED:20240112T233344Z
LAST-MODIFIED:20240112T233344Z
UID:10000055-1736589600-1736604000@nor-calchevelles.com
SUMMARY:Club Meeting and Cruise to Lunch
DESCRIPTION:
URL:https://nor-calchevelles.com/event/club-meeting-and-cruise-to-lunch/2025-01-11/
END:VEVENT
BEGIN:VEVENT
DTSTART;TZID=America/Denver:20250208T100000
DTEND;TZID=America/Denver:20250208T140000
DTSTAMP:20260420T195715
CREATED:20240112T233344Z
LAST-MODIFIED:20240112T233344Z
UID:10000056-1739008800-1739023200@nor-calchevelles.com
SUMMARY:Club Meeting and Cruise to Lunch
DESCRIPTION:
URL:https://nor-calchevelles.com/event/club-meeting-and-cruise-to-lunch/2025-02-08/
END:VEVENT
BEGIN:VEVENT
DTSTART;TZID=America/Denver:20250308T100000
DTEND;TZID=America/Denver:20250308T140000
DTSTAMP:20260420T195715
CREATED:20240112T233344Z
LAST-MODIFIED:20240112T233344Z
UID:10000057-1741428000-1741442400@nor-calchevelles.com
SUMMARY:Club Meeting and Cruise to Lunch
DESCRIPTION:
URL:https://nor-calchevelles.com/event/club-meeting-and-cruise-to-lunch/2025-03-08/
END:VEVENT
BEGIN:VEVENT
DTSTART;TZID=America/Denver:20250329T080000
DTEND;TZID=America/Denver:20250330T170000
DTSTAMP:20260420T195715
CREATED:20250309T192111Z
LAST-MODIFIED:20250309T192111Z
UID:10000149-1743235200-1743354000@nor-calchevelles.com
SUMMARY:GoodGuys in Pleasanton
DESCRIPTION:GoodGuys car show event
URL:https://nor-calchevelles.com/event/goodguys-in-pleasanton/
END:VEVENT
BEGIN:VEVENT
DTSTART;TZID=America/Denver:20250405T080000
DTEND;TZID=America/Denver:20250405T170000
DTSTAMP:20260420T195715
CREATED:20250309T192332Z
LAST-MODIFIED:20250309T192332Z
UID:10000150-1743840000-1743872400@nor-calchevelles.com
SUMMARY:Lodi Wine Country "Sip & Savor" Cruise
DESCRIPTION:
URL:https://nor-calchevelles.com/event/lodi-wine-country-sip-savor-cruise/
END:VEVENT
BEGIN:VEVENT
DTSTART;TZID=America/Denver:20250412T100000
DTEND;TZID=America/Denver:20250412T140000
DTSTAMP:20260420T195715
CREATED:20240112T233344Z
LAST-MODIFIED:20240112T233344Z
UID:10000058-1744452000-1744466400@nor-calchevelles.com
SUMMARY:Club Meeting and Cruise to Lunch
DESCRIPTION:
URL:https://nor-calchevelles.com/event/club-meeting-and-cruise-to-lunch/2025-04-12/
END:VEVENT
BEGIN:VEVENT
DTSTART;TZID=America/Denver:20250427T080000
DTEND;TZID=America/Denver:20250427T170000
DTSTAMP:20260420T195715
CREATED:20250309T193747Z
LAST-MODIFIED:20250309T193747Z
UID:10000151-1745740800-1745773200@nor-calchevelles.com
SUMMARY:Benicia Classic Car Show
DESCRIPTION:
URL:https://nor-calchevelles.com/event/benicia-classic-car-show-2/
END:VEVENT
BEGIN:VEVENT
DTSTART;TZID=America/Denver:20250504T080000
DTEND;TZID=America/Denver:20250504T170000
DTSTAMP:20260420T195715
CREATED:20250309T194018Z
LAST-MODIFIED:20250309T194018Z
UID:10000152-1746345600-1746378000@nor-calchevelles.com
SUMMARY:Niles Spring Fever Car Show
DESCRIPTION:
URL:https://nor-calchevelles.com/event/niles-spring-fever-car-show-2/
END:VEVENT
BEGIN:VEVENT
DTSTART;TZID=America/Denver:20250510T100000
DTEND;TZID=America/Denver:20250510T140000
DTSTAMP:20260420T195715
CREATED:20240112T233344Z
LAST-MODIFIED:20240112T233344Z
UID:10000059-1746871200-1746885600@nor-calchevelles.com
SUMMARY:Club Meeting and Cruise to Lunch
DESCRIPTION:
URL:https://nor-calchevelles.com/event/club-meeting-and-cruise-to-lunch/2025-05-10/
END:VEVENT
BEGIN:VEVENT
DTSTART;TZID=America/Denver:20250531T080000
DTEND;TZID=America/Denver:20250531T170000
DTSTAMP:20260420T195715
CREATED:20250309T194141Z
LAST-MODIFIED:20250309T194141Z
UID:10000153-1748678400-1748710800@nor-calchevelles.com
SUMMARY:Annual Club Picnic in Danville
DESCRIPTION:
URL:https://nor-calchevelles.com/event/annual-club-picnic-in-danville/
END:VEVENT
BEGIN:VEVENT
DTSTART;TZID=America/Denver:20250614T100000
DTEND;TZID=America/Denver:20250614T140000
DTSTAMP:20260420T195715
CREATED:20240112T233344Z
LAST-MODIFIED:20240112T233344Z
UID:10000060-1749895200-1749909600@nor-calchevelles.com
SUMMARY:Club Meeting and Cruise to Lunch
DESCRIPTION:
URL:https://nor-calchevelles.com/event/club-meeting-and-cruise-to-lunch/2025-06-14/
END:VEVENT
BEGIN:VEVENT
DTSTART;TZID=America/Denver:20250621T080000
DTEND;TZID=America/Denver:20250621T170000
DTSTAMP:20260420T195715
CREATED:20250309T194501Z
LAST-MODIFIED:20250309T194501Z
UID:10000154-1750492800-1750525200@nor-calchevelles.com
SUMMARY:Monterey Rock & Rod Festival Car Show
DESCRIPTION:
URL:https://nor-calchevelles.com/event/monterey-rock-rod-festival-car-show/
END:VEVENT
BEGIN:VEVENT
DTSTART;TZID=America/Denver:20250712T100000
DTEND;TZID=America/Denver:20250712T140000
DTSTAMP:20260420T195715
CREATED:20240112T233344Z
LAST-MODIFIED:20240112T233344Z
UID:10000061-1752314400-1752328800@nor-calchevelles.com
SUMMARY:Club Meeting and Cruise to Lunch
DESCRIPTION:
URL:https://nor-calchevelles.com/event/club-meeting-and-cruise-to-lunch/2025-07-12/
END:VEVENT
BEGIN:VEVENT
DTSTART;TZID=America/Denver:20250720T080000
DTEND;TZID=America/Denver:20250720T170000
DTSTAMP:20260420T195715
CREATED:20250309T194926Z
LAST-MODIFIED:20250309T194926Z
UID:10000156-1752998400-1753030800@nor-calchevelles.com
SUMMARY:Rosie the Riveter
DESCRIPTION:
URL:https://nor-calchevelles.com/event/rosie-the-riveter/
END:VEVENT
BEGIN:VEVENT
DTSTART;TZID=America/Denver:20250807T080000
DTEND;TZID=America/Denver:20250810T170000
DTSTAMP:20260420T195715
CREATED:20250309T195229Z
LAST-MODIFIED:20250309T195229Z
UID:10000157-1754553600-1754845200@nor-calchevelles.com
SUMMARY:Hot August Nights (Reno)
DESCRIPTION:
URL:https://nor-calchevelles.com/event/hot-august-nights-reno/
END:VEVENT
BEGIN:VEVENT
DTSTART;TZID=America/Denver:20250810T080000
DTEND;TZID=America/Denver:20250810T170000
DTSTAMP:20260420T195715
CREATED:20250309T195404Z
LAST-MODIFIED:20250309T195404Z
UID:10000158-1754812800-1754845200@nor-calchevelles.com
SUMMARY:Hot August Niles
DESCRIPTION:
URL:https://nor-calchevelles.com/event/hot-august-niles/
END:VEVENT
BEGIN:VEVENT
DTSTART;TZID=America/Denver:20250816T100000
DTEND;TZID=America/Denver:20250816T140000
DTSTAMP:20260420T195715
CREATED:20250820T185926Z
LAST-MODIFIED:20250820T185926Z
UID:10000062-1755338400-1755352800@nor-calchevelles.com
SUMMARY:Club Meeting and Cruise to Lunch
DESCRIPTION:
URL:https://nor-calchevelles.com/event/club-meeting-and-cruise-to-lunch-7/
END:VEVENT
BEGIN:VEVENT
DTSTART;TZID=America/Denver:20250822T080000
DTEND;TZID=America/Denver:20250824T170000
DTSTAMP:20260420T195715
CREATED:20250309T200054Z
LAST-MODIFIED:20250309T200054Z
UID:10000159-1755849600-1756054800@nor-calchevelles.com
SUMMARY:GoodGuys West Coast Nationals
DESCRIPTION:
URL:https://nor-calchevelles.com/event/goodguys-west-coast-nationals/
END:VEVENT
BEGIN:VEVENT
DTSTART;TZID=America/Denver:20250906T080000
DTEND;TZID=America/Denver:20250906T170000
DTSTAMP:20260420T195715
CREATED:20250309T200744Z
LAST-MODIFIED:20250309T200744Z
UID:10000160-1757145600-1757178000@nor-calchevelles.com
SUMMARY:Roarin’ the Redwoods Car Show & More
DESCRIPTION:
URL:https://nor-calchevelles.com/event/roarin-the-redwoods-car-show-more/
END:VEVENT
BEGIN:VEVENT
DTSTART;TZID=America/Denver:20250913T160000
DTEND;TZID=America/Denver:20250913T163000
DTSTAMP:20260420T195715
CREATED:20250828T184051Z
LAST-MODIFIED:20250828T184051Z
UID:10000290-1757779200-1757781000@nor-calchevelles.com
SUMMARY:Club Meeting at Castlewood
DESCRIPTION:
URL:https://nor-calchevelles.com/event/club-meeting-at-castlewood/
END:VEVENT
BEGIN:VEVENT
DTSTART;TZID=America/Denver:20250913T163000
DTEND;TZID=America/Denver:20250913T200000
DTSTAMP:20260420T195715
CREATED:20250309T201315Z
LAST-MODIFIED:20250828T003236Z
UID:10000161-1757781000-1757793600@nor-calchevelles.com
SUMMARY:Castlewood Car Show & BBQ
DESCRIPTION:
URL:https://nor-calchevelles.com/event/castlewood-car-show-bbq/
END:VEVENT
BEGIN:VEVENT
DTSTART;TZID=America/Denver:20250927T120000
DTEND;TZID=America/Denver:20250927T170000
DTSTAMP:20260420T195715
CREATED:20250827T201003Z
LAST-MODIFIED:20250827T201003Z
UID:10000230-1758974400-1758992400@nor-calchevelles.com
SUMMARY:Open House/Grand Opening of FFR Fabrication in San Jose
DESCRIPTION:Our club’s been invited to the Sept. 27 Open House/Grand Opening of FFR Fabrication in San Jose.
URL:https://nor-calchevelles.com/event/open-house-grand-opening-of-ffr-fabrication-in-san-jose/
END:VEVENT
BEGIN:VEVENT
DTSTART;TZID=America/Denver:20251011T100000
DTEND;TZID=America/Denver:20251011T140000
DTSTAMP:20260420T195715
CREATED:20250827T230858Z
LAST-MODIFIED:20250827T230859Z
UID:10000231-1760176800-1760191200@nor-calchevelles.com
SUMMARY:Club Meeting and Cruise to Lunch
DESCRIPTION:
URL:https://nor-calchevelles.com/event/club-meeting-and-cruise-to-lunch-7-2/2025-10-11/
END:VEVENT
BEGIN:VEVENT
DTSTART;TZID=America/Denver:20251012T080000
DTEND;TZID=America/Denver:20251012T170000
DTSTAMP:20260420T195715
CREATED:20250309T202122Z
LAST-MODIFIED:20250309T202122Z
UID:10000163-1760256000-1760288400@nor-calchevelles.com
SUMMARY:Sutter Creek Car Show
DESCRIPTION:
URL:https://nor-calchevelles.com/event/sutter-creek-car-show/
END:VEVENT
BEGIN:VEVENT
DTSTART;TZID=America/Denver:20251025T180000
DTEND;TZID=America/Denver:20251025T220000
DTSTAMP:20260420T195715
CREATED:20250309T210639Z
LAST-MODIFIED:20250309T210639Z
UID:10000165-1761415200-1761429600@nor-calchevelles.com
SUMMARY:Halloween Party at Judith’s & Brett’s in Danville
DESCRIPTION:
URL:https://nor-calchevelles.com/event/halloween-party-at-judiths-bretts-in-danville/
END:VEVENT
BEGIN:VEVENT
DTSTART;TZID=America/Denver:20251101T080000
DTEND;TZID=America/Denver:20251102T170000
DTSTAMP:20260420T195715
CREATED:20250309T210851Z
LAST-MODIFIED:20250819T210113Z
UID:10000166-1761984000-1762102800@nor-calchevelles.com
SUMMARY:Solvang Overnight
DESCRIPTION:
URL:https://nor-calchevelles.com/event/solvang-overnight-tentative/
END:VEVENT
BEGIN:VEVENT
DTSTART;TZID=America/Denver:20251108T080000
DTEND;TZID=America/Denver:20251109T170000
DTSTAMP:20260420T195715
CREATED:20250309T211307Z
LAST-MODIFIED:20250309T211307Z
UID:10000167-1762588800-1762707600@nor-calchevelles.com
SUMMARY:GoodGuys
DESCRIPTION:
URL:https://nor-calchevelles.com/event/goodguys-2/
END:VEVENT
END:VCALENDAR