BEGIN:VCALENDAR
VERSION:2.0
PRODID:-//Nor-Cal ChevelleCaminos - ECPv6.15.20//NONSGML v1.0//EN
CALSCALE:GREGORIAN
METHOD:PUBLISH
X-WR-CALNAME:Nor-Cal ChevelleCaminos
X-ORIGINAL-URL:https://nor-calchevelles.com
X-WR-CALDESC:Events for Nor-Cal ChevelleCaminos
REFRESH-INTERVAL;VALUE=DURATION:PT1H
X-Robots-Tag:noindex
X-PUBLISHED-TTL:PT1H
BEGIN:VTIMEZONE
TZID:America/Denver
BEGIN:DAYLIGHT
TZOFFSETFROM:-0700
TZOFFSETTO:-0600
TZNAME:MDT
DTSTART:20230312T090000
END:DAYLIGHT
BEGIN:STANDARD
TZOFFSETFROM:-0600
TZOFFSETTO:-0700
TZNAME:MST
DTSTART:20231105T080000
END:STANDARD
BEGIN:DAYLIGHT
TZOFFSETFROM:-0700
TZOFFSETTO:-0600
TZNAME:MDT
DTSTART:20240310T090000
END:DAYLIGHT
BEGIN:STANDARD
TZOFFSETFROM:-0600
TZOFFSETTO:-0700
TZNAME:MST
DTSTART:20241103T080000
END:STANDARD
BEGIN:DAYLIGHT
TZOFFSETFROM:-0700
TZOFFSETTO:-0600
TZNAME:MDT
DTSTART:20250309T090000
END:DAYLIGHT
BEGIN:STANDARD
TZOFFSETFROM:-0600
TZOFFSETTO:-0700
TZNAME:MST
DTSTART:20251102T080000
END:STANDARD
END:VTIMEZONE
BEGIN:VEVENT
DTSTART;TZID=America/Denver:20241012T100000
DTEND;TZID=America/Denver:20241012T140000
DTSTAMP:20260419T122807
CREATED:20240303T015245Z
LAST-MODIFIED:20240303T015246Z
UID:10000052-1728727200-1728741600@nor-calchevelles.com
SUMMARY:Monthly meeting with Election of Officers and Cruise to Lunch
DESCRIPTION:
URL:https://nor-calchevelles.com/event/club-meeting-and-cruise-to-lunch-4/
END:VEVENT
BEGIN:VEVENT
DTSTART;TZID=America/Denver:20241005T080000
DTEND;TZID=America/Denver:20241006T170000
DTSTAMP:20260419T122807
CREATED:20240303T012328Z
LAST-MODIFIED:20240303T012328Z
UID:10000139-1728115200-1728234000@nor-calchevelles.com
SUMMARY:Paso Robles Cruise - Overnight & Sensorio (Field of Lights)
DESCRIPTION:
URL:https://nor-calchevelles.com/event/paso-robles-cruise-overnight-sensorio-field-of-lights/
END:VEVENT
BEGIN:VEVENT
DTSTART;TZID=America/Denver:20240915T080000
DTEND;TZID=America/Denver:20240915T170000
DTSTAMP:20260419T122807
CREATED:20240303T012045Z
LAST-MODIFIED:20240517T030252Z
UID:10000138-1726387200-1726419600@nor-calchevelles.com
SUMMARY:Run Thru the Canyon / Poker Run
DESCRIPTION:
URL:https://nor-calchevelles.com/event/run-thru-the-canyon-poker-run/
END:VEVENT
BEGIN:VEVENT
DTSTART;TZID=America/Denver:20240914T100000
DTEND;TZID=America/Denver:20240914T140000
DTSTAMP:20260419T122807
CREATED:20240303T015043Z
LAST-MODIFIED:20240303T015044Z
UID:10000051-1726308000-1726322400@nor-calchevelles.com
SUMMARY:Monthly meeting with Club Nominations and Cruise to Lunch; Final Prep for RTTC
DESCRIPTION:
URL:https://nor-calchevelles.com/event/club-meeting-and-cruise-to-lunch-3/
END:VEVENT
BEGIN:VEVENT
DTSTART;TZID=America/Denver:20240907T070000
DTEND;TZID=America/Denver:20240907T150000
DTSTAMP:20260419T122807
CREATED:20240303T011950Z
LAST-MODIFIED:20240415T000931Z
UID:10000137-1725692400-1725721200@nor-calchevelles.com
SUMMARY:Redwoods Car Show in Felton
DESCRIPTION:Roarin’ The Redwoods registration-4.1.2024
URL:https://nor-calchevelles.com/event/redwoods-car-show-in-felton/
END:VEVENT
BEGIN:VEVENT
DTSTART;TZID=America/Denver:20240901T070000
DTEND;TZID=America/Denver:20240901T150000
DTSTAMP:20260419T122807
CREATED:20240303T011859Z
LAST-MODIFIED:20240303T011859Z
UID:10000136-1725174000-1725202800@nor-calchevelles.com
SUMMARY:Santos Family Car Show (Alviso)
DESCRIPTION:
URL:https://nor-calchevelles.com/event/santos-family-car-show-alviso/
END:VEVENT
BEGIN:VEVENT
DTSTART;TZID=America/Denver:20240823T080000
DTEND;TZID=America/Denver:20240825T170000
DTSTAMP:20260419T122807
CREATED:20240303T005309Z
LAST-MODIFIED:20240811T201356Z
UID:10000135-1724400000-1724605200@nor-calchevelles.com
SUMMARY:Good Guys West Coast Nationals (Pleasanton) – Chevelles on Display!!
DESCRIPTION:This is a once in a lifetime oppertunity to showcase our Chevelles & El Caminos in an in-door event at the Aug 23-25th Goodguys event. I hope to see you there.
URL:https://nor-calchevelles.com/event/good-guys-west-coast-nationals-pleasanton-chevelles-on-display/
END:VEVENT
BEGIN:VEVENT
DTSTART;TZID=America/Denver:20240817T100000
DTEND;TZID=America/Denver:20240817T140000
DTSTAMP:20260419T122807
CREATED:20240709T172559Z
LAST-MODIFIED:20240806T235300Z
UID:10000148-1723888800-1723903200@nor-calchevelles.com
SUMMARY:Club Meeting and Cruise to Lunch
DESCRIPTION:
URL:https://nor-calchevelles.com/event/club-meeting-and-cruise-to-lunch-6/
END:VEVENT
BEGIN:VEVENT
DTSTART;TZID=America/Denver:20240816T080000
DTEND;TZID=America/Denver:20240816T170000
DTSTAMP:20260419T122807
CREATED:20240303T005144Z
LAST-MODIFIED:20240303T005144Z
UID:10000134-1723795200-1723827600@nor-calchevelles.com
SUMMARY:Pacific Grove Concourse Auto Rally (Monterey) (potential overnight) - Camaro Club Event
DESCRIPTION:
URL:https://nor-calchevelles.com/event/pacific-grove-concourse-auto-rally-monterey-potential-overnight-camaro-club-event/
END:VEVENT
BEGIN:VEVENT
DTSTART;TZID=America/Denver:20240811T070000
DTEND;TZID=America/Denver:20240811T150000
DTSTAMP:20260419T122807
CREATED:20240303T005037Z
LAST-MODIFIED:20240303T005037Z
UID:10000133-1723359600-1723388400@nor-calchevelles.com
SUMMARY:Hot August Niles (Downtown Niles in Fremont)
DESCRIPTION:
URL:https://nor-calchevelles.com/event/hot-august-niles-downtown-niles-in-fremont/
END:VEVENT
BEGIN:VEVENT
DTSTART;TZID=America/Denver:20240809T080000
DTEND;TZID=America/Denver:20240811T170000
DTSTAMP:20260419T122807
CREATED:20240303T004937Z
LAST-MODIFIED:20240303T004937Z
UID:10000132-1723190400-1723395600@nor-calchevelles.com
SUMMARY:9 – 11  Hot August Nights (Reno)
DESCRIPTION:
URL:https://nor-calchevelles.com/event/9-11-hot-august-nights-reno/
END:VEVENT
BEGIN:VEVENT
DTSTART;TZID=America/Denver:20240803T080000
DTEND;TZID=America/Denver:20240803T170000
DTSTAMP:20260419T122807
CREATED:20240303T004824Z
LAST-MODIFIED:20240709T171220Z
UID:10000131-1722672000-1722704400@nor-calchevelles.com
SUMMARY:Chocolate Cruise (inc. Lunch at Alehouse\, Ghirardelli tour in Tracy) - Camaro Club Event
DESCRIPTION:Saturday August 3rd we will start in Fremont\, enjoy a late morning drive to Livermore for a terrace view lunch\, followed up with a country road drive to ice cream in Tracy. \n1. Start location Park & Ride Fremont\nOptional (if you don’t live close to Fremont\, you can meet us in Livermore)\nPark & Ride at 680 North Mission Ave. Fremont\nThere is a McDonald’s and a Shell gas station at the same exit\nMeet at 10 am.  We will be leaving by 10:15 am for downtown Livermore \n2. Downtown Livermore\nLunch at Aviation Rooftop Bar and Kitchen\n2470 First St. Third Floor\, Livermore 94550\nThe restaurant entrance doors there will be an elevator to the 3rd floor\nMeet for lunch at noon\, if we are early enjoy a walk and explore downtown \nParking:\nThere is street parking on First St. (no fee)\nPublic Parking 2205 Railroad Ave\, Livermore 94550 (no fee)\, short walk to the restaurant \n3. Country drive though the Altamont via Patterson Pass Rd \n4. Tracy\nGhirardelli Ice Cream & Chocolate Factory Outlet\n1015 Promontory Pkwy\, Tracy 95377 \nHope you can join\, look forward to seeing everyone\, Norm and Lolo
URL:https://nor-calchevelles.com/event/chocolate-cruise-inc-lunch-at-alehouse-ghirardelli-tour-in-tracy-camaro-club-event/
END:VEVENT
BEGIN:VEVENT
DTSTART;TZID=America/Denver:20240727T080000
DTEND;TZID=America/Denver:20240727T170000
DTSTAMP:20260419T122807
CREATED:20240303T004145Z
LAST-MODIFIED:20240709T172113Z
UID:10000130-1722067200-1722099600@nor-calchevelles.com
SUMMARY:Camaro Club Mystery Cruise
DESCRIPTION:Mystery Drive Flyer \n  \nThis year’s Mystery Drive departs from L&L Hawaiian BBQ parking lot located at the corner of Lawrence Expressway and Homestead Road in Santa Clara. Date is July 27 – departure is at 10:00am sharp. Make sure to bring a picnic lunch. Pack clothing for a variety of weather. \n\n\n\n\n\ncontact is Gary Young  –  408.464.5946
URL:https://nor-calchevelles.com/event/camaro-club-mystery-cruise/
END:VEVENT
BEGIN:VEVENT
DTSTART;TZID=America/Denver:20240713T100000
DTEND;TZID=America/Denver:20240713T140000
DTSTAMP:20260419T122807
CREATED:20240609T025945Z
LAST-MODIFIED:20240609T030558Z
UID:10000049-1720864800-1720879200@nor-calchevelles.com
SUMMARY:Club Meeting and Cruise to the Brooksdale Senior Center
DESCRIPTION:Back for a second time. \nThe senior citizens at this facility just love to see our cars and they have so many stories to tell about their past cars. After the mini car show\, we have been invited to stay for a wonderful free buffet lunch. Those of you who attended last time said the lunch buffet was excellent. Hope you can make it and make their day.
URL:https://nor-calchevelles.com/event/club-meeting-and-cruise-to-lunch-5/
END:VEVENT
BEGIN:VEVENT
DTSTART;TZID=America/Denver:20240704T080000
DTEND;TZID=America/Denver:20240704T140000
DTSTAMP:20260419T122807
CREATED:20240303T003542Z
LAST-MODIFIED:20240623T030015Z
UID:10000128-1720080000-1720101600@nor-calchevelles.com
SUMMARY:Fremont 4th of July Parade; Alviso 4th of July Festival & Fireworks w/the Camaro Club
DESCRIPTION:
URL:https://nor-calchevelles.com/event/fremont-4th-of-july-parade-alviso-4th-of-july-festival-fireworks-w-the-camaro-club/
END:VEVENT
BEGIN:VEVENT
DTSTART;TZID=America/Denver:20240622T070000
DTEND;TZID=America/Denver:20240622T150000
DTSTAMP:20260419T122807
CREATED:20240303T003156Z
LAST-MODIFIED:20240303T003345Z
UID:10000127-1719039600-1719068400@nor-calchevelles.com
SUMMARY:Camaro Club Tech Session in Fremont at the home of Camaro Club President
DESCRIPTION:
URL:https://nor-calchevelles.com/event/woodies-on-the-wharf-in-santa-cruz-2/
END:VEVENT
BEGIN:VEVENT
DTSTART;TZID=America/Denver:20240622T070000
DTEND;TZID=America/Denver:20240622T150000
DTSTAMP:20260419T122807
CREATED:20240303T001743Z
LAST-MODIFIED:20240303T001743Z
UID:10000124-1719039600-1719068400@nor-calchevelles.com
SUMMARY:Woodies on the Wharf in Santa Cruz
DESCRIPTION:
URL:https://nor-calchevelles.com/event/woodies-on-the-wharf-in-santa-cruz/
END:VEVENT
BEGIN:VEVENT
DTSTART;TZID=America/Denver:20240616T070000
DTEND;TZID=America/Denver:20240616T150000
DTSTAMP:20260419T122807
CREATED:20240303T001448Z
LAST-MODIFIED:20240303T001537Z
UID:10000122-1718521200-1718550000@nor-calchevelles.com
SUMMARY:Father’s Day Car Shows (Danville\, Saratoga)
DESCRIPTION:
URL:https://nor-calchevelles.com/event/fathers-day-car-shows-danville-saratoga/
END:VEVENT
BEGIN:VEVENT
DTSTART;TZID=America/Denver:20240615T080000
DTEND;TZID=America/Denver:20240615T170000
DTSTAMP:20260419T122807
CREATED:20240616T002043Z
LAST-MODIFIED:20240521T002946Z
UID:10000126-1718438400-1718470800@nor-calchevelles.com
SUMMARY:Monterey Rock & Rod Car Show in the Plaza & on the Wharf
DESCRIPTION:Click HERE to Register for the show
URL:https://nor-calchevelles.com/event/monterey-rock-rod-car-show-in-the-plaza-on-the-wharf-2/
END:VEVENT
BEGIN:VEVENT
DTSTART;TZID=America/Denver:20240615T080000
DTEND;TZID=America/Denver:20240615T170000
DTSTAMP:20260419T122807
CREATED:20240616T002004Z
LAST-MODIFIED:20240303T002533Z
UID:10000125-1718438400-1718470800@nor-calchevelles.com
SUMMARY:Castro Valley Car Show
DESCRIPTION:
URL:https://nor-calchevelles.com/event/castro-valley-car-show-2/
END:VEVENT
BEGIN:VEVENT
DTSTART;TZID=America/Denver:20240615T070000
DTEND;TZID=America/Denver:20240615T170000
DTSTAMP:20260419T122807
CREATED:20240303T001353Z
LAST-MODIFIED:20240521T011145Z
UID:10000121-1718434800-1718470800@nor-calchevelles.com
SUMMARY:Monterey Rock & Rod Car Show in the Plaza & on the Wharf
DESCRIPTION:Click HERE to Register for the show
URL:https://nor-calchevelles.com/event/monterey-rock-rod-car-show-in-the-plaza-on-the-wharf/
END:VEVENT
BEGIN:VEVENT
DTSTART;TZID=America/Denver:20240615T070000
DTEND;TZID=America/Denver:20240615T150000
DTSTAMP:20260419T122807
CREATED:20240303T001029Z
LAST-MODIFIED:20240303T002925Z
UID:10000120-1718434800-1718463600@nor-calchevelles.com
SUMMARY:Castro Valley Car Show
DESCRIPTION:
URL:https://nor-calchevelles.com/event/castro-valley-car-show/
END:VEVENT
BEGIN:VEVENT
DTSTART;TZID=America/Denver:20240608T100000
DTEND;TZID=America/Denver:20240608T140000
DTSTAMP:20260419T122807
CREATED:20240112T233344Z
LAST-MODIFIED:20240112T233344Z
UID:10000048-1717840800-1717855200@nor-calchevelles.com
SUMMARY:Club Meeting and Cruise to Lunch
DESCRIPTION:
URL:https://nor-calchevelles.com/event/club-meeting-and-cruise-to-lunch/2024-06-08/
END:VEVENT
BEGIN:VEVENT
DTSTART;TZID=America/Denver:20240601T100000
DTEND;TZID=America/Denver:20240601T170000
DTSTAMP:20260419T122807
CREATED:20240303T000821Z
LAST-MODIFIED:20240520T223936Z
UID:10000119-1717236000-1717261200@nor-calchevelles.com
SUMMARY:Cruise to Lunch & Wine Tasting in Livermore & Pleasanton
DESCRIPTION:As a replacement to the previously scheduled San Juan Bautista cruise\, The NorCal ChevelleCamino Club will now cruise through the Livermore Valley with two of our favorite Club stops\, Wente Golf Course Grill and Rubino Winery. Come join us for a fun day of cruising\, good wine and great food! Please RSVP by Sat\, May 25th as we have a max attendance of 12-14 people.\n\nFor more information\, feel free to email either randy.ochs@comcast.net  or  rhdeem@hotmail.com\n\n9:45AM                Meet at Starbucks next to Safeway in Pleasanton\, (off 680 & Bernal Rd.)     OPTIONAL\n\n10:00AM              Depart for Wente Golf Course (5040 Arroyo Rd\, Livermore)\n\n10:30AM              Lunch reservations at Wente Grill\n\n12:30AM              Depart for Rubino Winery (1188 Vineyard Ave\, Pleasanton)\n\n1:00PM                Tasting at Rubino Winery ($25 pp tasting for 4 pours or possibly pre-purchase some bottles)\n\n3:00PM                Depart for Home or Pleasanton Downtown Car Show\n\n\n\nMax: 12-14 people                                                                                                          \n\nCurrent attendees are:                                                                            \n\nNames                                                              # in Party \n\n\n\n\nRandy & Angela                                                             2\nBev & George                                                                2\nRobert & Vickie                                                              2\nRegina & Dave                                                               2
URL:https://nor-calchevelles.com/event/san-juan-bautista-cruise-to-lunch-wine-tasting-in-gilroy-morgan-hill/
END:VEVENT
BEGIN:VEVENT
DTSTART;TZID=America/Denver:20240518T110000
DTEND;TZID=America/Denver:20240518T170000
DTSTAMP:20260419T122807
CREATED:20240302T205947Z
LAST-MODIFIED:20240517T031058Z
UID:10000118-1716030000-1716051600@nor-calchevelles.com
SUMMARY:Annual Club Picnic at Oak Hill Park in Danville
DESCRIPTION:
URL:https://nor-calchevelles.com/event/annual-club-picnic/
LOCATION:Annual Club Picnic at Oak Hill Park in Danville\, 3005 Stone Valley Rd\, Danville\, CA\, 94526
END:VEVENT
BEGIN:VEVENT
DTSTART;VALUE=DATE:20240512
DTEND;VALUE=DATE:20240513
DTSTAMP:20260419T122807
CREATED:20240302T204411Z
LAST-MODIFIED:20240302T204656Z
UID:10000117-1715472000-1715558399@nor-calchevelles.com
SUMMARY:Mother’s Day
DESCRIPTION:
URL:https://nor-calchevelles.com/event/mothers-day/
END:VEVENT
BEGIN:VEVENT
DTSTART;TZID=America/Denver:20240511T100000
DTEND;TZID=America/Denver:20240511T140000
DTSTAMP:20260419T122807
CREATED:20240112T233344Z
LAST-MODIFIED:20240112T233344Z
UID:10000047-1715421600-1715436000@nor-calchevelles.com
SUMMARY:Club Meeting and Cruise to Lunch
DESCRIPTION:
URL:https://nor-calchevelles.com/event/club-meeting-and-cruise-to-lunch/2024-05-11/
END:VEVENT
BEGIN:VEVENT
DTSTART;TZID=America/Denver:20240505T063000
DTEND;TZID=America/Denver:20240505T150000
DTSTAMP:20260419T122807
CREATED:20240302T204325Z
LAST-MODIFIED:20240505T022242Z
UID:10000116-1714890600-1714921200@nor-calchevelles.com
SUMMARY:Niles Spring Fever Car Show (Fremont) & Club Meeting
DESCRIPTION:
URL:https://nor-calchevelles.com/event/niles-spring-fever-car-show-fremont/
END:VEVENT
BEGIN:VEVENT
DTSTART;TZID=America/Denver:20240504T080000
DTEND;TZID=America/Denver:20240504T170000
DTSTAMP:20260419T122807
CREATED:20240302T204215Z
LAST-MODIFIED:20240409T001228Z
UID:10000115-1714809600-1714842000@nor-calchevelles.com
SUMMARY:Clutch Burners Picnic in the Park in Tracy
DESCRIPTION:PITP_Flyer
URL:https://nor-calchevelles.com/event/clutch-burners-picnic-in-the-park-in-tracy/
END:VEVENT
BEGIN:VEVENT
DTSTART;TZID=America/Denver:20240503T173000
DTEND;TZID=America/Denver:20240503T200000
DTSTAMP:20260419T122807
CREATED:20240302T204041Z
LAST-MODIFIED:20240302T204041Z
UID:10000114-1714757400-1714766400@nor-calchevelles.com
SUMMARY:McTaggart Car Show @Silicon Valley Career Tech Education (“SVCTE”) in SJ (Friday 5:30 pm) - Camaro Club Event
DESCRIPTION:
URL:https://nor-calchevelles.com/event/mctaggart-car-show-silicon-valley-career-tech-education-svcte-in-sj-friday-530-pm-camaro-club-event/
END:VEVENT
END:VCALENDAR