BEGIN:VCALENDAR
VERSION:2.0
PRODID:-//Nor-Cal ChevelleCaminos - ECPv6.15.20//NONSGML v1.0//EN
CALSCALE:GREGORIAN
METHOD:PUBLISH
X-WR-CALNAME:Nor-Cal ChevelleCaminos
X-ORIGINAL-URL:https://nor-calchevelles.com
X-WR-CALDESC:Events for Nor-Cal ChevelleCaminos
REFRESH-INTERVAL;VALUE=DURATION:PT1H
X-Robots-Tag:noindex
X-PUBLISHED-TTL:PT1H
BEGIN:VTIMEZONE
TZID:America/Denver
BEGIN:DAYLIGHT
TZOFFSETFROM:-0700
TZOFFSETTO:-0600
TZNAME:MDT
DTSTART:20220313T090000
END:DAYLIGHT
BEGIN:STANDARD
TZOFFSETFROM:-0600
TZOFFSETTO:-0700
TZNAME:MST
DTSTART:20221106T080000
END:STANDARD
BEGIN:DAYLIGHT
TZOFFSETFROM:-0700
TZOFFSETTO:-0600
TZNAME:MDT
DTSTART:20230312T090000
END:DAYLIGHT
BEGIN:STANDARD
TZOFFSETFROM:-0600
TZOFFSETTO:-0700
TZNAME:MST
DTSTART:20231105T080000
END:STANDARD
BEGIN:DAYLIGHT
TZOFFSETFROM:-0700
TZOFFSETTO:-0600
TZNAME:MDT
DTSTART:20240310T090000
END:DAYLIGHT
BEGIN:STANDARD
TZOFFSETFROM:-0600
TZOFFSETTO:-0700
TZNAME:MST
DTSTART:20241103T080000
END:STANDARD
END:VTIMEZONE
BEGIN:VEVENT
DTSTART;TZID=America/Denver:20230708T080000
DTEND;TZID=America/Denver:20230708T170000
DTSTAMP:20260419T201431
CREATED:20230816T044744Z
LAST-MODIFIED:20230816T044744Z
UID:10000021-1688803200-1688835600@nor-calchevelles.com
SUMMARY:Club Meeting at Fremont Chevrolet & Cruise to lunch
DESCRIPTION:
URL:https://nor-calchevelles.com/event/club-meeting-at-fremont-chevrolet-cruise-to-lunch-6/
END:VEVENT
BEGIN:VEVENT
DTSTART;TZID=America/Denver:20230704T080000
DTEND;TZID=America/Denver:20230704T170000
DTSTAMP:20260419T201431
CREATED:20230816T044519Z
LAST-MODIFIED:20230816T044519Z
UID:10000020-1688457600-1688490000@nor-calchevelles.com
SUMMARY:Fremont 4th of July parade – Coordinator: Joanie
DESCRIPTION:
URL:https://nor-calchevelles.com/event/fremont-4th-of-july-parade-coordinator-joanie/
END:VEVENT
BEGIN:VEVENT
DTSTART;TZID=America/Denver:20230617T080000
DTEND;TZID=America/Denver:20230617T170000
DTSTAMP:20260419T201431
CREATED:20230816T044348Z
LAST-MODIFIED:20230816T044348Z
UID:10000018-1686988800-1687021200@nor-calchevelles.com
SUMMARY:Castro Valley Car Show/Cruise Night
DESCRIPTION:
URL:https://nor-calchevelles.com/event/castro-valley-car-show-cruise-night/
END:VEVENT
BEGIN:VEVENT
DTSTART;TZID=America/Denver:20230610T080000
DTEND;TZID=America/Denver:20230610T170000
DTSTAMP:20260419T201431
CREATED:20230816T044319Z
LAST-MODIFIED:20230816T044319Z
UID:10000017-1686384000-1686416400@nor-calchevelles.com
SUMMARY:Club Meeting at Fremont Chevrolet & Cruise to lunch
DESCRIPTION:
URL:https://nor-calchevelles.com/event/club-meeting-at-fremont-chevrolet-cruise-to-lunch-5/
END:VEVENT
BEGIN:VEVENT
DTSTART;TZID=America/Denver:20230604T080000
DTEND;TZID=America/Denver:20230604T170000
DTSTAMP:20260419T201431
CREATED:20230816T044245Z
LAST-MODIFIED:20230816T044245Z
UID:10000016-1685865600-1685898000@nor-calchevelles.com
SUMMARY:Club Picnic & BBQ
DESCRIPTION:
URL:https://nor-calchevelles.com/event/club-picnic-bbq/
END:VEVENT
BEGIN:VEVENT
DTSTART;TZID=America/Denver:20230527T080000
DTEND;TZID=America/Denver:20230527T170000
DTSTAMP:20260419T201431
CREATED:20230816T044220Z
LAST-MODIFIED:20230816T044220Z
UID:10000015-1685174400-1685206800@nor-calchevelles.com
SUMMARY:Cars & Coffee at Kassabian's in San Ramon
DESCRIPTION:
URL:https://nor-calchevelles.com/event/cars-coffee-at-kassabians-in-san-ramon-4/
END:VEVENT
BEGIN:VEVENT
DTSTART;TZID=America/Denver:20230520T080000
DTEND;TZID=America/Denver:20230520T170000
DTSTAMP:20260419T201431
CREATED:20230816T044151Z
LAST-MODIFIED:20230816T044151Z
UID:10000014-1684569600-1684602000@nor-calchevelles.com
SUMMARY:Salute to American Graffiti in Petaluma\, 50th Anniversary
DESCRIPTION:
URL:https://nor-calchevelles.com/event/salute-to-american-graffiti-in-petaluma-50th-anniversary/
END:VEVENT
BEGIN:VEVENT
DTSTART;TZID=America/Denver:20230513T080000
DTEND;TZID=America/Denver:20230513T170000
DTSTAMP:20260419T201431
CREATED:20230816T044120Z
LAST-MODIFIED:20230816T044120Z
UID:10000013-1683964800-1683997200@nor-calchevelles.com
SUMMARY:Club Meeting at Fremont Chevrolet & Cruise to lunch
DESCRIPTION:
URL:https://nor-calchevelles.com/event/club-meeting-at-fremont-chevrolet-cruise-to-lunch-4/
END:VEVENT
BEGIN:VEVENT
DTSTART;TZID=America/Denver:20230507T080000
DTEND;TZID=America/Denver:20230507T170000
DTSTAMP:20260419T201431
CREATED:20230816T044050Z
LAST-MODIFIED:20230816T044050Z
UID:10000012-1683446400-1683478800@nor-calchevelles.com
SUMMARY:Niles Spring Fever Car Show -
DESCRIPTION:
URL:https://nor-calchevelles.com/event/niles-spring-fever-car-show/
END:VEVENT
BEGIN:VEVENT
DTSTART;TZID=America/Denver:20230429T080000
DTEND;TZID=America/Denver:20230429T170000
DTSTAMP:20260419T201431
CREATED:20230816T043439Z
LAST-MODIFIED:20230816T043439Z
UID:10000011-1682755200-1682787600@nor-calchevelles.com
SUMMARY:Cars & Coffee at Kassabian's in San Ramon
DESCRIPTION:
URL:https://nor-calchevelles.com/event/cars-coffee-at-kassabians-in-san-ramon-3/
END:VEVENT
BEGIN:VEVENT
DTSTART;TZID=America/Denver:20230423T080000
DTEND;TZID=America/Denver:20230423T170000
DTSTAMP:20260419T201431
CREATED:20230816T043408Z
LAST-MODIFIED:20230816T043408Z
UID:10000010-1682236800-1682269200@nor-calchevelles.com
SUMMARY:Benicia Car Show
DESCRIPTION:
URL:https://nor-calchevelles.com/event/benicia-car-show/
END:VEVENT
BEGIN:VEVENT
DTSTART;TZID=America/Denver:20230415T080000
DTEND;TZID=America/Denver:20230415T170000
DTSTAMP:20260419T201431
CREATED:20230816T043334Z
LAST-MODIFIED:20230816T043334Z
UID:10000009-1681545600-1681578000@nor-calchevelles.com
SUMMARY:Lodi Wine Tasing W/Camero Club
DESCRIPTION:
URL:https://nor-calchevelles.com/event/lodi-wine-tasing-w-camero-club/
END:VEVENT
BEGIN:VEVENT
DTSTART;TZID=America/Denver:20230408T080000
DTEND;TZID=America/Denver:20230408T170000
DTSTAMP:20260419T201431
CREATED:20230816T043244Z
LAST-MODIFIED:20230816T043244Z
UID:10000008-1680940800-1680973200@nor-calchevelles.com
SUMMARY:Club Meeting at Fremont Chevrolet & Cruise to lunch
DESCRIPTION:
URL:https://nor-calchevelles.com/event/club-meeting-at-fremont-chevrolet-cruise-to-lunch-3/
END:VEVENT
BEGIN:VEVENT
DTSTART;TZID=America/Denver:20230402T080000
DTEND;TZID=America/Denver:20230402T170000
DTSTAMP:20260419T201431
CREATED:20230816T043142Z
LAST-MODIFIED:20230816T043142Z
UID:10000007-1680422400-1680454800@nor-calchevelles.com
SUMMARY:Treasure Island Cruise\, Lunch to follow
DESCRIPTION:
URL:https://nor-calchevelles.com/event/treasure-island-cruise-lunch-to-follow/
END:VEVENT
BEGIN:VEVENT
DTSTART;TZID=America/Denver:20230326T080000
DTEND;TZID=America/Denver:20230326T170000
DTSTAMP:20260419T201431
CREATED:20230816T043107Z
LAST-MODIFIED:20230816T043107Z
UID:10000006-1679817600-1679850000@nor-calchevelles.com
SUMMARY:Whale watching in Monterey W/Camero Club
DESCRIPTION:
URL:https://nor-calchevelles.com/event/whale-watching-in-monterey-w-camero-club/
END:VEVENT
BEGIN:VEVENT
DTSTART;TZID=America/Denver:20230325T080000
DTEND;TZID=America/Denver:20230325T170000
DTSTAMP:20260419T201431
CREATED:20230816T042947Z
LAST-MODIFIED:20230816T042947Z
UID:10000005-1679731200-1679763600@nor-calchevelles.com
SUMMARY:Cars & Coffee at Kassabian's in San Ramon
DESCRIPTION:
URL:https://nor-calchevelles.com/event/cars-coffee-at-kassabians-in-san-ramon-2/
END:VEVENT
BEGIN:VEVENT
DTSTART;TZID=America/Denver:20230311T080000
DTEND;TZID=America/Denver:20230311T170000
DTSTAMP:20260419T201431
CREATED:20230816T042917Z
LAST-MODIFIED:20230816T042917Z
UID:10000004-1678521600-1678554000@nor-calchevelles.com
SUMMARY:Club Meeting at Fremont Chevrolet & Cruise to lunch
DESCRIPTION:
URL:https://nor-calchevelles.com/event/club-meeting-at-fremont-chevrolet-cruise-to-lunch-2/
END:VEVENT
BEGIN:VEVENT
DTSTART;TZID=America/Denver:20230225T080000
DTEND;TZID=America/Denver:20230225T170000
DTSTAMP:20260419T201431
CREATED:20230816T042817Z
LAST-MODIFIED:20230816T042817Z
UID:10000003-1677312000-1677344400@nor-calchevelles.com
SUMMARY:Cars & Coffee at Kassabian's in San Ramon
DESCRIPTION:
URL:https://nor-calchevelles.com/event/cars-coffee-at-kassabians-in-san-ramon/
END:VEVENT
BEGIN:VEVENT
DTSTART;TZID=America/Denver:20230211T080000
DTEND;TZID=America/Denver:20230211T170000
DTSTAMP:20260419T201431
CREATED:20230816T042743Z
LAST-MODIFIED:20230816T042743Z
UID:10000002-1676102400-1676134800@nor-calchevelles.com
SUMMARY:Club Meeting & Activities Planning at the Shinn House
DESCRIPTION:February’s club meeting will be held at the Shinn house at 1251 Peralta Blvd\, Fremont\, CA 94536.\nThe meeting will start at 10:30 am and the activity’s meeting will immediately follow.\nPizza Included
URL:https://nor-calchevelles.com/event/club-meeting-activities-planning-at-the-shinn-house/
END:VEVENT
BEGIN:VEVENT
DTSTART;TZID=America/Denver:20230114T080000
DTEND;TZID=America/Denver:20230114T170000
DTSTAMP:20260419T201431
CREATED:20230816T042602Z
LAST-MODIFIED:20230816T042602Z
UID:10000001-1673683200-1673715600@nor-calchevelles.com
SUMMARY:Club Meeting at Fremont Chevrolet & Cruise to lunch
DESCRIPTION:
URL:https://nor-calchevelles.com/event/club-meeting-at-fremont-chevrolet-cruise-to-lunch/
END:VEVENT
END:VCALENDAR