BEGIN:VCALENDAR
VERSION:2.0
PRODID:-//Nor-Cal ChevelleCaminos - ECPv6.15.20//NONSGML v1.0//EN
CALSCALE:GREGORIAN
METHOD:PUBLISH
X-WR-CALNAME:Nor-Cal ChevelleCaminos
X-ORIGINAL-URL:https://nor-calchevelles.com
X-WR-CALDESC:Events for Nor-Cal ChevelleCaminos
REFRESH-INTERVAL;VALUE=DURATION:PT1H
X-Robots-Tag:noindex
X-PUBLISHED-TTL:PT1H
BEGIN:VTIMEZONE
TZID:America/Denver
BEGIN:DAYLIGHT
TZOFFSETFROM:-0700
TZOFFSETTO:-0600
TZNAME:MDT
DTSTART:20220313T090000
END:DAYLIGHT
BEGIN:STANDARD
TZOFFSETFROM:-0600
TZOFFSETTO:-0700
TZNAME:MST
DTSTART:20221106T080000
END:STANDARD
BEGIN:DAYLIGHT
TZOFFSETFROM:-0700
TZOFFSETTO:-0600
TZNAME:MDT
DTSTART:20230312T090000
END:DAYLIGHT
BEGIN:STANDARD
TZOFFSETFROM:-0600
TZOFFSETTO:-0700
TZNAME:MST
DTSTART:20231105T080000
END:STANDARD
BEGIN:DAYLIGHT
TZOFFSETFROM:-0700
TZOFFSETTO:-0600
TZNAME:MDT
DTSTART:20240310T090000
END:DAYLIGHT
BEGIN:STANDARD
TZOFFSETFROM:-0600
TZOFFSETTO:-0700
TZNAME:MST
DTSTART:20241103T080000
END:STANDARD
END:VTIMEZONE
BEGIN:VEVENT
DTSTART;TZID=America/Denver:20230408T080000
DTEND;TZID=America/Denver:20230408T170000
DTSTAMP:20260419T214449
CREATED:20230816T043244Z
LAST-MODIFIED:20230816T043244Z
UID:10000008-1680940800-1680973200@nor-calchevelles.com
SUMMARY:Club Meeting at Fremont Chevrolet & Cruise to lunch
DESCRIPTION:
URL:https://nor-calchevelles.com/event/club-meeting-at-fremont-chevrolet-cruise-to-lunch-3/
END:VEVENT
BEGIN:VEVENT
DTSTART;TZID=America/Denver:20230402T080000
DTEND;TZID=America/Denver:20230402T170000
DTSTAMP:20260419T214449
CREATED:20230816T043142Z
LAST-MODIFIED:20230816T043142Z
UID:10000007-1680422400-1680454800@nor-calchevelles.com
SUMMARY:Treasure Island Cruise\, Lunch to follow
DESCRIPTION:
URL:https://nor-calchevelles.com/event/treasure-island-cruise-lunch-to-follow/
END:VEVENT
BEGIN:VEVENT
DTSTART;TZID=America/Denver:20230326T080000
DTEND;TZID=America/Denver:20230326T170000
DTSTAMP:20260419T214449
CREATED:20230816T043107Z
LAST-MODIFIED:20230816T043107Z
UID:10000006-1679817600-1679850000@nor-calchevelles.com
SUMMARY:Whale watching in Monterey W/Camero Club
DESCRIPTION:
URL:https://nor-calchevelles.com/event/whale-watching-in-monterey-w-camero-club/
END:VEVENT
BEGIN:VEVENT
DTSTART;TZID=America/Denver:20230325T080000
DTEND;TZID=America/Denver:20230325T170000
DTSTAMP:20260419T214449
CREATED:20230816T042947Z
LAST-MODIFIED:20230816T042947Z
UID:10000005-1679731200-1679763600@nor-calchevelles.com
SUMMARY:Cars & Coffee at Kassabian's in San Ramon
DESCRIPTION:
URL:https://nor-calchevelles.com/event/cars-coffee-at-kassabians-in-san-ramon-2/
END:VEVENT
BEGIN:VEVENT
DTSTART;TZID=America/Denver:20230311T080000
DTEND;TZID=America/Denver:20230311T170000
DTSTAMP:20260419T214449
CREATED:20230816T042917Z
LAST-MODIFIED:20230816T042917Z
UID:10000004-1678521600-1678554000@nor-calchevelles.com
SUMMARY:Club Meeting at Fremont Chevrolet & Cruise to lunch
DESCRIPTION:
URL:https://nor-calchevelles.com/event/club-meeting-at-fremont-chevrolet-cruise-to-lunch-2/
END:VEVENT
BEGIN:VEVENT
DTSTART;TZID=America/Denver:20230225T080000
DTEND;TZID=America/Denver:20230225T170000
DTSTAMP:20260419T214449
CREATED:20230816T042817Z
LAST-MODIFIED:20230816T042817Z
UID:10000003-1677312000-1677344400@nor-calchevelles.com
SUMMARY:Cars & Coffee at Kassabian's in San Ramon
DESCRIPTION:
URL:https://nor-calchevelles.com/event/cars-coffee-at-kassabians-in-san-ramon/
END:VEVENT
BEGIN:VEVENT
DTSTART;TZID=America/Denver:20230211T080000
DTEND;TZID=America/Denver:20230211T170000
DTSTAMP:20260419T214449
CREATED:20230816T042743Z
LAST-MODIFIED:20230816T042743Z
UID:10000002-1676102400-1676134800@nor-calchevelles.com
SUMMARY:Club Meeting & Activities Planning at the Shinn House
DESCRIPTION:February’s club meeting will be held at the Shinn house at 1251 Peralta Blvd\, Fremont\, CA 94536.\nThe meeting will start at 10:30 am and the activity’s meeting will immediately follow.\nPizza Included
URL:https://nor-calchevelles.com/event/club-meeting-activities-planning-at-the-shinn-house/
END:VEVENT
BEGIN:VEVENT
DTSTART;TZID=America/Denver:20230114T080000
DTEND;TZID=America/Denver:20230114T170000
DTSTAMP:20260419T214449
CREATED:20230816T042602Z
LAST-MODIFIED:20230816T042602Z
UID:10000001-1673683200-1673715600@nor-calchevelles.com
SUMMARY:Club Meeting at Fremont Chevrolet & Cruise to lunch
DESCRIPTION:
URL:https://nor-calchevelles.com/event/club-meeting-at-fremont-chevrolet-cruise-to-lunch/
END:VEVENT
END:VCALENDAR