BEGIN:VCALENDAR
VERSION:2.0
PRODID:-//Nor-Cal ChevelleCaminos - ECPv6.15.20//NONSGML v1.0//EN
CALSCALE:GREGORIAN
METHOD:PUBLISH
X-WR-CALNAME:Nor-Cal ChevelleCaminos
X-ORIGINAL-URL:https://nor-calchevelles.com
X-WR-CALDESC:Events for Nor-Cal ChevelleCaminos
REFRESH-INTERVAL;VALUE=DURATION:PT1H
X-Robots-Tag:noindex
X-PUBLISHED-TTL:PT1H
BEGIN:VTIMEZONE
TZID:America/Denver
BEGIN:DAYLIGHT
TZOFFSETFROM:-0700
TZOFFSETTO:-0600
TZNAME:MDT
DTSTART:20250309T090000
END:DAYLIGHT
BEGIN:STANDARD
TZOFFSETFROM:-0600
TZOFFSETTO:-0700
TZNAME:MST
DTSTART:20251102T080000
END:STANDARD
BEGIN:DAYLIGHT
TZOFFSETFROM:-0700
TZOFFSETTO:-0600
TZNAME:MDT
DTSTART:20260308T090000
END:DAYLIGHT
BEGIN:STANDARD
TZOFFSETFROM:-0600
TZOFFSETTO:-0700
TZNAME:MST
DTSTART:20261101T080000
END:STANDARD
BEGIN:DAYLIGHT
TZOFFSETFROM:-0700
TZOFFSETTO:-0600
TZNAME:MDT
DTSTART:20270314T090000
END:DAYLIGHT
BEGIN:STANDARD
TZOFFSETFROM:-0600
TZOFFSETTO:-0700
TZNAME:MST
DTSTART:20271107T080000
END:STANDARD
END:VTIMEZONE
BEGIN:VEVENT
DTSTART;TZID=America/Denver:20260503T070000
DTEND;TZID=America/Denver:20260503T150000
DTSTAMP:20260421T083521
CREATED:20260310T001940Z
LAST-MODIFIED:20260408T232429Z
UID:10000303-1777791600-1777820400@nor-calchevelles.com
SUMMARY:Niles Spring Fever Car Show
DESCRIPTION:Hello Everyone!  \n\n\n\nThe Niles Spring Fever Car Show is coming up on Sunday\, May 3rd.  This is a fun local show complete with live music from 10AM – 1PM\, a 50/50 raffle\, plenty of food including food trucks\, the usual awards for the usual and unique categories (no guarantees though)\, and shops that will be open for your shopping pleasure.  \n\n\nIf you’d like to be in the show and park your classic with other Nor-Cal Chevelle Club members\, please let Chris Paulson know as soon as possible (no later than Apr 24th) at norcal64caminochris@gmail.com  Chris is planning to get there by 6:30AM that morning and can save spots only until 8:00AM\, but he can only save spots if he knows how many to save.\nWe’ll be parking in the parking lot at J Street and Niles Blvd (in Niles).  \n\n\nRegistration is $40 before Apr 3rd and $45 after Apr 3rd and is required if you want to park as a group. You can register online or at the show (first come first serve). (Online is preferred.) Information regarding registration can be found below \n\n\nClick here to Register online\, scroll to the bottom of the flyer and click on the “Purchase” button
URL:https://nor-calchevelles.com/event/niles-spring-fever-car-show-3/
END:VEVENT
BEGIN:VEVENT
DTSTART;TZID=America/Denver:20260509T100000
DTEND;TZID=America/Denver:20260509T140000
DTSTAMP:20260421T083521
CREATED:20260310T002444Z
LAST-MODIFIED:20260310T003412Z
UID:10000238-1778320800-1778335200@nor-calchevelles.com
SUMMARY:Gathering/short mtg – Cruise to Wente Golf Course for Lunch & Rubino Wine Tasting
DESCRIPTION:
URL:https://nor-calchevelles.com/event/club-meeting-and-cruise-to-lunch-7-2-2/
END:VEVENT
BEGIN:VEVENT
DTSTART;TZID=America/Denver:20260517T080000
DTEND;TZID=America/Denver:20260517T170000
DTSTAMP:20260421T083521
CREATED:20260310T003803Z
LAST-MODIFIED:20260310T003844Z
UID:10000304-1779004800-1779037200@nor-calchevelles.com
SUMMARY:Annual Club Picnic at the Meek Estate in Hayward
DESCRIPTION:
URL:https://nor-calchevelles.com/event/annual-club-picnic-at-the-meek-estate-in-hayward/
END:VEVENT
BEGIN:VEVENT
DTSTART;TZID=America/Denver:20260525T080000
DTEND;TZID=America/Denver:20260525T170000
DTSTAMP:20260421T083521
CREATED:20260310T004034Z
LAST-MODIFIED:20260310T004034Z
UID:10000305-1779696000-1779728400@nor-calchevelles.com
SUMMARY:Memorial Day
DESCRIPTION:
URL:https://nor-calchevelles.com/event/memorial-day/
END:VEVENT
END:VCALENDAR