BEGIN:VCALENDAR
VERSION:2.0
PRODID:-//Nor-Cal ChevelleCaminos - ECPv6.15.20//NONSGML v1.0//EN
CALSCALE:GREGORIAN
METHOD:PUBLISH
X-ORIGINAL-URL:https://nor-calchevelles.com
X-WR-CALDESC:Events for Nor-Cal ChevelleCaminos
REFRESH-INTERVAL;VALUE=DURATION:PT1H
X-Robots-Tag:noindex
X-PUBLISHED-TTL:PT1H
BEGIN:VTIMEZONE
TZID:America/Denver
BEGIN:DAYLIGHT
TZOFFSETFROM:-0700
TZOFFSETTO:-0600
TZNAME:MDT
DTSTART:20250309T090000
END:DAYLIGHT
BEGIN:STANDARD
TZOFFSETFROM:-0600
TZOFFSETTO:-0700
TZNAME:MST
DTSTART:20251102T080000
END:STANDARD
BEGIN:DAYLIGHT
TZOFFSETFROM:-0700
TZOFFSETTO:-0600
TZNAME:MDT
DTSTART:20260308T090000
END:DAYLIGHT
BEGIN:STANDARD
TZOFFSETFROM:-0600
TZOFFSETTO:-0700
TZNAME:MST
DTSTART:20261101T080000
END:STANDARD
BEGIN:DAYLIGHT
TZOFFSETFROM:-0700
TZOFFSETTO:-0600
TZNAME:MDT
DTSTART:20270314T090000
END:DAYLIGHT
BEGIN:STANDARD
TZOFFSETFROM:-0600
TZOFFSETTO:-0700
TZNAME:MST
DTSTART:20271107T080000
END:STANDARD
BEGIN:DAYLIGHT
TZOFFSETFROM:-0700
TZOFFSETTO:-0600
TZNAME:MDT
DTSTART:20280312T090000
END:DAYLIGHT
BEGIN:STANDARD
TZOFFSETFROM:-0600
TZOFFSETTO:-0700
TZNAME:MST
DTSTART:20281105T080000
END:STANDARD
BEGIN:DAYLIGHT
TZOFFSETFROM:-0700
TZOFFSETTO:-0600
TZNAME:MDT
DTSTART:20290311T090000
END:DAYLIGHT
BEGIN:STANDARD
TZOFFSETFROM:-0600
TZOFFSETTO:-0700
TZNAME:MST
DTSTART:20291104T080000
END:STANDARD
BEGIN:DAYLIGHT
TZOFFSETFROM:-0700
TZOFFSETTO:-0600
TZNAME:MDT
DTSTART:20300310T090000
END:DAYLIGHT
BEGIN:STANDARD
TZOFFSETFROM:-0600
TZOFFSETTO:-0700
TZNAME:MST
DTSTART:20301103T080000
END:STANDARD
END:VTIMEZONE
BEGIN:VEVENT
DTSTART;TZID=America/Denver:20261128T080000
DTEND;TZID=America/Denver:20261128T170000
DTSTAMP:20260419T134916
CREATED:20260313T233231Z
LAST-MODIFIED:20260313T233231Z
UID:10000322-1795852800-1795885200@nor-calchevelles.com
SUMMARY:“Day After Thanksgiving” Niles Lights Parade & Tree Lighting
DESCRIPTION:
URL:https://nor-calchevelles.com/event/day-after-thanksgiving-niles-lights-parade-tree-lighting/
END:VEVENT
BEGIN:VEVENT
DTSTART;TZID=America/Denver:20261212T100000
DTEND;TZID=America/Denver:20261212T140000
DTSTAMP:20260419T134916
CREATED:20260314T011038Z
LAST-MODIFIED:20260314T011122Z
UID:10000245-1797069600-1797084000@nor-calchevelles.com
SUMMARY:Annual Christmas Party (Members only) at TBD
DESCRIPTION:
URL:https://nor-calchevelles.com/event/club-meeting-and-cruise-to-lunch-7-2-8/
END:VEVENT
BEGIN:VEVENT
DTSTART;TZID=America/Denver:20270109T100000
DTEND;TZID=America/Denver:20270109T140000
DTSTAMP:20260419T134916
CREATED:20250827T230858Z
LAST-MODIFIED:20250827T230859Z
UID:10000246-1799488800-1799503200@nor-calchevelles.com
SUMMARY:Club Meeting and Cruise to Lunch
DESCRIPTION:
URL:https://nor-calchevelles.com/event/club-meeting-and-cruise-to-lunch-7-2/2027-01-09/
END:VEVENT
BEGIN:VEVENT
DTSTART;TZID=America/Denver:20270213T100000
DTEND;TZID=America/Denver:20270213T140000
DTSTAMP:20260419T134916
CREATED:20250827T230858Z
LAST-MODIFIED:20250827T230859Z
UID:10000247-1802512800-1802527200@nor-calchevelles.com
SUMMARY:Club Meeting and Cruise to Lunch
DESCRIPTION:
URL:https://nor-calchevelles.com/event/club-meeting-and-cruise-to-lunch-7-2/2027-02-13/
END:VEVENT
BEGIN:VEVENT
DTSTART;TZID=America/Denver:20270313T100000
DTEND;TZID=America/Denver:20270313T140000
DTSTAMP:20260419T134916
CREATED:20250827T230858Z
LAST-MODIFIED:20250827T230859Z
UID:10000248-1804932000-1804946400@nor-calchevelles.com
SUMMARY:Club Meeting and Cruise to Lunch
DESCRIPTION:
URL:https://nor-calchevelles.com/event/club-meeting-and-cruise-to-lunch-7-2/2027-03-13/
END:VEVENT
BEGIN:VEVENT
DTSTART;TZID=America/Denver:20270410T100000
DTEND;TZID=America/Denver:20270410T140000
DTSTAMP:20260419T134916
CREATED:20250827T230858Z
LAST-MODIFIED:20250827T230859Z
UID:10000249-1807351200-1807365600@nor-calchevelles.com
SUMMARY:Club Meeting and Cruise to Lunch
DESCRIPTION:
URL:https://nor-calchevelles.com/event/club-meeting-and-cruise-to-lunch-7-2/2027-04-10/
END:VEVENT
BEGIN:VEVENT
DTSTART;TZID=America/Denver:20270508T100000
DTEND;TZID=America/Denver:20270508T140000
DTSTAMP:20260419T134916
CREATED:20250827T230858Z
LAST-MODIFIED:20250827T230859Z
UID:10000250-1809770400-1809784800@nor-calchevelles.com
SUMMARY:Club Meeting and Cruise to Lunch
DESCRIPTION:
URL:https://nor-calchevelles.com/event/club-meeting-and-cruise-to-lunch-7-2/2027-05-08/
END:VEVENT
BEGIN:VEVENT
DTSTART;TZID=America/Denver:20270612T100000
DTEND;TZID=America/Denver:20270612T140000
DTSTAMP:20260419T134916
CREATED:20250827T230858Z
LAST-MODIFIED:20250827T230859Z
UID:10000251-1812794400-1812808800@nor-calchevelles.com
SUMMARY:Club Meeting and Cruise to Lunch
DESCRIPTION:
URL:https://nor-calchevelles.com/event/club-meeting-and-cruise-to-lunch-7-2/2027-06-12/
END:VEVENT
BEGIN:VEVENT
DTSTART;TZID=America/Denver:20270710T100000
DTEND;TZID=America/Denver:20270710T140000
DTSTAMP:20260419T134916
CREATED:20250827T230858Z
LAST-MODIFIED:20250827T230859Z
UID:10000252-1815213600-1815228000@nor-calchevelles.com
SUMMARY:Club Meeting and Cruise to Lunch
DESCRIPTION:
URL:https://nor-calchevelles.com/event/club-meeting-and-cruise-to-lunch-7-2/2027-07-10/
END:VEVENT
BEGIN:VEVENT
DTSTART;TZID=America/Denver:20270814T100000
DTEND;TZID=America/Denver:20270814T140000
DTSTAMP:20260419T134916
CREATED:20250827T230858Z
LAST-MODIFIED:20250827T230859Z
UID:10000253-1818237600-1818252000@nor-calchevelles.com
SUMMARY:Club Meeting and Cruise to Lunch
DESCRIPTION:
URL:https://nor-calchevelles.com/event/club-meeting-and-cruise-to-lunch-7-2/2027-08-14/
END:VEVENT
BEGIN:VEVENT
DTSTART;TZID=America/Denver:20270911T100000
DTEND;TZID=America/Denver:20270911T140000
DTSTAMP:20260419T134916
CREATED:20250827T230858Z
LAST-MODIFIED:20250827T230859Z
UID:10000254-1820656800-1820671200@nor-calchevelles.com
SUMMARY:Club Meeting and Cruise to Lunch
DESCRIPTION:
URL:https://nor-calchevelles.com/event/club-meeting-and-cruise-to-lunch-7-2/2027-09-11/
END:VEVENT
BEGIN:VEVENT
DTSTART;TZID=America/Denver:20271009T100000
DTEND;TZID=America/Denver:20271009T140000
DTSTAMP:20260419T134916
CREATED:20250827T230858Z
LAST-MODIFIED:20250827T230859Z
UID:10000255-1823076000-1823090400@nor-calchevelles.com
SUMMARY:Club Meeting and Cruise to Lunch
DESCRIPTION:
URL:https://nor-calchevelles.com/event/club-meeting-and-cruise-to-lunch-7-2/2027-10-09/
END:VEVENT
BEGIN:VEVENT
DTSTART;TZID=America/Denver:20271113T100000
DTEND;TZID=America/Denver:20271113T140000
DTSTAMP:20260419T134916
CREATED:20250827T230858Z
LAST-MODIFIED:20250827T230859Z
UID:10000256-1826100000-1826114400@nor-calchevelles.com
SUMMARY:Club Meeting and Cruise to Lunch
DESCRIPTION:
URL:https://nor-calchevelles.com/event/club-meeting-and-cruise-to-lunch-7-2/2027-11-13/
END:VEVENT
BEGIN:VEVENT
DTSTART;TZID=America/Denver:20271211T100000
DTEND;TZID=America/Denver:20271211T140000
DTSTAMP:20260419T134916
CREATED:20250827T230858Z
LAST-MODIFIED:20250827T230859Z
UID:10000257-1828519200-1828533600@nor-calchevelles.com
SUMMARY:Club Meeting and Cruise to Lunch
DESCRIPTION:
URL:https://nor-calchevelles.com/event/club-meeting-and-cruise-to-lunch-7-2/2027-12-11/
END:VEVENT
BEGIN:VEVENT
DTSTART;TZID=America/Denver:20280108T100000
DTEND;TZID=America/Denver:20280108T140000
DTSTAMP:20260419T134916
CREATED:20250827T230858Z
LAST-MODIFIED:20250827T230859Z
UID:10000258-1830938400-1830952800@nor-calchevelles.com
SUMMARY:Club Meeting and Cruise to Lunch
DESCRIPTION:
URL:https://nor-calchevelles.com/event/club-meeting-and-cruise-to-lunch-7-2/2028-01-08/
END:VEVENT
BEGIN:VEVENT
DTSTART;TZID=America/Denver:20280212T100000
DTEND;TZID=America/Denver:20280212T140000
DTSTAMP:20260419T134916
CREATED:20250827T230858Z
LAST-MODIFIED:20250827T230859Z
UID:10000259-1833962400-1833976800@nor-calchevelles.com
SUMMARY:Club Meeting and Cruise to Lunch
DESCRIPTION:
URL:https://nor-calchevelles.com/event/club-meeting-and-cruise-to-lunch-7-2/2028-02-12/
END:VEVENT
BEGIN:VEVENT
DTSTART;TZID=America/Denver:20280311T100000
DTEND;TZID=America/Denver:20280311T140000
DTSTAMP:20260419T134916
CREATED:20250827T230858Z
LAST-MODIFIED:20250827T230859Z
UID:10000260-1836381600-1836396000@nor-calchevelles.com
SUMMARY:Club Meeting and Cruise to Lunch
DESCRIPTION:
URL:https://nor-calchevelles.com/event/club-meeting-and-cruise-to-lunch-7-2/2028-03-11/
END:VEVENT
BEGIN:VEVENT
DTSTART;TZID=America/Denver:20280408T100000
DTEND;TZID=America/Denver:20280408T140000
DTSTAMP:20260419T134916
CREATED:20250827T230858Z
LAST-MODIFIED:20250827T230859Z
UID:10000261-1838800800-1838815200@nor-calchevelles.com
SUMMARY:Club Meeting and Cruise to Lunch
DESCRIPTION:
URL:https://nor-calchevelles.com/event/club-meeting-and-cruise-to-lunch-7-2/2028-04-08/
END:VEVENT
BEGIN:VEVENT
DTSTART;TZID=America/Denver:20280513T100000
DTEND;TZID=America/Denver:20280513T140000
DTSTAMP:20260419T134916
CREATED:20250827T230858Z
LAST-MODIFIED:20250827T230859Z
UID:10000262-1841824800-1841839200@nor-calchevelles.com
SUMMARY:Club Meeting and Cruise to Lunch
DESCRIPTION:
URL:https://nor-calchevelles.com/event/club-meeting-and-cruise-to-lunch-7-2/2028-05-13/
END:VEVENT
BEGIN:VEVENT
DTSTART;TZID=America/Denver:20280610T100000
DTEND;TZID=America/Denver:20280610T140000
DTSTAMP:20260419T134916
CREATED:20250827T230858Z
LAST-MODIFIED:20250827T230859Z
UID:10000263-1844244000-1844258400@nor-calchevelles.com
SUMMARY:Club Meeting and Cruise to Lunch
DESCRIPTION:
URL:https://nor-calchevelles.com/event/club-meeting-and-cruise-to-lunch-7-2/2028-06-10/
END:VEVENT
BEGIN:VEVENT
DTSTART;TZID=America/Denver:20280708T100000
DTEND;TZID=America/Denver:20280708T140000
DTSTAMP:20260419T134916
CREATED:20250827T230858Z
LAST-MODIFIED:20250827T230859Z
UID:10000264-1846663200-1846677600@nor-calchevelles.com
SUMMARY:Club Meeting and Cruise to Lunch
DESCRIPTION:
URL:https://nor-calchevelles.com/event/club-meeting-and-cruise-to-lunch-7-2/2028-07-08/
END:VEVENT
BEGIN:VEVENT
DTSTART;TZID=America/Denver:20280812T100000
DTEND;TZID=America/Denver:20280812T140000
DTSTAMP:20260419T134916
CREATED:20250827T230858Z
LAST-MODIFIED:20250827T230859Z
UID:10000265-1849687200-1849701600@nor-calchevelles.com
SUMMARY:Club Meeting and Cruise to Lunch
DESCRIPTION:
URL:https://nor-calchevelles.com/event/club-meeting-and-cruise-to-lunch-7-2/2028-08-12/
END:VEVENT
BEGIN:VEVENT
DTSTART;TZID=America/Denver:20280909T100000
DTEND;TZID=America/Denver:20280909T140000
DTSTAMP:20260419T134916
CREATED:20250827T230858Z
LAST-MODIFIED:20250827T230859Z
UID:10000266-1852106400-1852120800@nor-calchevelles.com
SUMMARY:Club Meeting and Cruise to Lunch
DESCRIPTION:
URL:https://nor-calchevelles.com/event/club-meeting-and-cruise-to-lunch-7-2/2028-09-09/
END:VEVENT
BEGIN:VEVENT
DTSTART;TZID=America/Denver:20281014T100000
DTEND;TZID=America/Denver:20281014T140000
DTSTAMP:20260419T134916
CREATED:20250827T230858Z
LAST-MODIFIED:20250827T230859Z
UID:10000267-1855130400-1855144800@nor-calchevelles.com
SUMMARY:Club Meeting and Cruise to Lunch
DESCRIPTION:
URL:https://nor-calchevelles.com/event/club-meeting-and-cruise-to-lunch-7-2/2028-10-14/
END:VEVENT
BEGIN:VEVENT
DTSTART;TZID=America/Denver:20281111T100000
DTEND;TZID=America/Denver:20281111T140000
DTSTAMP:20260419T134916
CREATED:20250827T230858Z
LAST-MODIFIED:20250827T230859Z
UID:10000268-1857549600-1857564000@nor-calchevelles.com
SUMMARY:Club Meeting and Cruise to Lunch
DESCRIPTION:
URL:https://nor-calchevelles.com/event/club-meeting-and-cruise-to-lunch-7-2/2028-11-11/
END:VEVENT
BEGIN:VEVENT
DTSTART;TZID=America/Denver:20281209T100000
DTEND;TZID=America/Denver:20281209T140000
DTSTAMP:20260419T134916
CREATED:20250827T230858Z
LAST-MODIFIED:20250827T230859Z
UID:10000269-1859968800-1859983200@nor-calchevelles.com
SUMMARY:Club Meeting and Cruise to Lunch
DESCRIPTION:
URL:https://nor-calchevelles.com/event/club-meeting-and-cruise-to-lunch-7-2/2028-12-09/
END:VEVENT
BEGIN:VEVENT
DTSTART;TZID=America/Denver:20290113T100000
DTEND;TZID=America/Denver:20290113T140000
DTSTAMP:20260419T134916
CREATED:20250827T230858Z
LAST-MODIFIED:20250827T230859Z
UID:10000270-1862992800-1863007200@nor-calchevelles.com
SUMMARY:Club Meeting and Cruise to Lunch
DESCRIPTION:
URL:https://nor-calchevelles.com/event/club-meeting-and-cruise-to-lunch-7-2/2029-01-13/
END:VEVENT
BEGIN:VEVENT
DTSTART;TZID=America/Denver:20290210T100000
DTEND;TZID=America/Denver:20290210T140000
DTSTAMP:20260419T134916
CREATED:20250827T230858Z
LAST-MODIFIED:20250827T230859Z
UID:10000271-1865412000-1865426400@nor-calchevelles.com
SUMMARY:Club Meeting and Cruise to Lunch
DESCRIPTION:
URL:https://nor-calchevelles.com/event/club-meeting-and-cruise-to-lunch-7-2/2029-02-10/
END:VEVENT
BEGIN:VEVENT
DTSTART;TZID=America/Denver:20290310T100000
DTEND;TZID=America/Denver:20290310T140000
DTSTAMP:20260419T134916
CREATED:20250827T230858Z
LAST-MODIFIED:20250827T230859Z
UID:10000272-1867831200-1867845600@nor-calchevelles.com
SUMMARY:Club Meeting and Cruise to Lunch
DESCRIPTION:
URL:https://nor-calchevelles.com/event/club-meeting-and-cruise-to-lunch-7-2/2029-03-10/
END:VEVENT
BEGIN:VEVENT
DTSTART;TZID=America/Denver:20290414T100000
DTEND;TZID=America/Denver:20290414T140000
DTSTAMP:20260419T134916
CREATED:20250827T230858Z
LAST-MODIFIED:20250827T230859Z
UID:10000273-1870855200-1870869600@nor-calchevelles.com
SUMMARY:Club Meeting and Cruise to Lunch
DESCRIPTION:
URL:https://nor-calchevelles.com/event/club-meeting-and-cruise-to-lunch-7-2/2029-04-14/
END:VEVENT
END:VCALENDAR